BEGIN:VCALENDAR
VERSION:2.0
PRODID:-//ChamberMaster//Event Calendar 2.0//EN
METHOD:PUBLISH
X-PUBLISHED-TTL:P3D
REFRESH-INTERVAL:P3D
CALSCALE:GREGORIAN
BEGIN:VEVENT
DTSTART;VALUE=DATE:20190424
DTEND;VALUE=DATE:20190425
TRANSP:TRANSPARENT
X-MICROSOFT-CDO-ALLDAYEVENT:TRUE
SUMMARY:Kearney Love Local Week: We Kare Wednesday! Kearney Kares!
DESCRIPTION:Join us for We Kare Wednesday\, Kearney Kares! This night of our Kearney Love Local Week is for the Non-Profits in Kearney! Help support them by eating out!
X-ALT-DESC;FMTTYPE=text/html:Join us for We Kare Wednesday\, Kearney Kares! This night of our Kearney Love Local Week is for the Non-Profits in Kearney! Help support them by eating out!&nbsp\;
LOCATION:TBD
UID:e.1404.15445
SEQUENCE:3
DTSTAMP:20260426T020924Z
URL:https://members.kearneycoc.org/events/details/kearney-love-local-week-we-kare-wednesday-kearney-kares-15445
END:VEVENT

END:VCALENDAR
