BEGIN:VCALENDAR
VERSION:2.0
PRODID:-//ChamberMaster//Event Calendar 2.0//EN
METHOD:PUBLISH
X-PUBLISHED-TTL:P3D
REFRESH-INTERVAL:P3D
CALSCALE:GREGORIAN
BEGIN:VEVENT
DTSTART:20150626T230000Z
DTEND:20150627T030000Z
X-MICROSOFT-CDO-ALLDAYEVENT:FALSE
SUMMARY:Kearney Powersports' Bike Night
DESCRIPTION:Join Kearney Powersports at our 4th Annual Bike Night where you could win a brand new motorcycle! Our Bike Night consists of food & drinks from Cunningham's Journal\, live music from The Innocence\, games\, prizes\, and a chance to be a key qualifier! Listen to Y102 and Hits106 for chances to win! We will also give away chances to win the bike throughout the evening at our Bike Night!
X-ALT-DESC;FMTTYPE=text/html:Join Kearney Powersports at our 4th Annual Bike Night where you could win a brand new motorcycle! Our Bike Night consists of food &amp\; drinks from Cunningham&#39\;s Journal\, live music from The Innocence\, games\, prizes\, and a chance to be a key qualifier! Listen to Y102 and Hits106 for chances to win! We will also give away chances to win the bike throughout the evening at our Bike Night!
LOCATION:Kearney Powersports 511 S. 2nd Ave. Kearney\, NE 68847
UID:e.1404.6179
SEQUENCE:3
DTSTAMP:20260422T152704Z
URL:https://members.kearneycoc.org/events/details/kearney-powersports-bike-night-06-26-2015-6179
END:VEVENT

END:VCALENDAR
