BEGIN:VCALENDAR
VERSION:2.0
PRODID:-//ChamberMaster//Event Calendar 2.0//EN
METHOD:PUBLISH
X-PUBLISHED-TTL:P3D
REFRESH-INTERVAL:P3D
CALSCALE:GREGORIAN
BEGIN:VEVENT
DTSTART:20150410T233000Z
DTEND:20150411T003000Z
X-MICROSOFT-CDO-ALLDAYEVENT:FALSE
SUMMARY:Kearney Powersports' Bike Night Kickoff
DESCRIPTION:Join Kearney Powersports as they kick off their Bike Night with the unveiling of this year's giveaway bike at Cunningham's Journal. Prizes and chances to win the bike will be given away that night! Listen to Y102 and Hits 106 for more chances to win. The bike will be given away on June 26 at the Bike Night.
X-ALT-DESC;FMTTYPE=text/html:Join Kearney Powersports as they kick off their Bike Night with the unveiling of this year&#39\;s giveaway bike at Cunningham&#39\;s Journal. Prizes and chances to win the bike will be given away that night! Listen to Y102 and Hits 106 for more chances to win. The bike will be given away on June 26 at the Bike Night.
LOCATION:Cunningham's Journal Kearney\, NE
UID:e.1404.6178
SEQUENCE:3
DTSTAMP:20260422T200234Z
URL:https://members.kearneycoc.org/events/details/kearney-powersports-bike-night-kickoff-04-10-2015-6178
END:VEVENT

END:VCALENDAR
