BEGIN:VCALENDAR
VERSION:2.0
PRODID:-//ChamberMaster//Event Calendar 2.0//EN
METHOD:PUBLISH
X-PUBLISHED-TTL:P3D
REFRESH-INTERVAL:P3D
CALSCALE:GREGORIAN
BEGIN:VEVENT
DTSTART:20190330T140000Z
DTEND:20190330T220000Z
X-MICROSOFT-CDO-ALLDAYEVENT:FALSE
SUMMARY:Kearney Powersports Hustler Demo Day
DESCRIPTION:Stop out to check out our line of Hustler Mowers as well as food and door prizes. Purchase your mower during the Demo Day and receive a FREE set of Flex Forks and a One year manufacturer's extended warranty!
X-ALT-DESC;FMTTYPE=text/html:Stop out to check out our line of Hustler Mowers as well as food and door prizes. Purchase your mower during the Demo Day and receive a FREE set of Flex Forks and a One year manufacturer&#39\;s extended warranty!
LOCATION:Kearney Powersports 511 2nd Ave S Kearney\, NE 68847
UID:e.1404.15440
SEQUENCE:3
DTSTAMP:20260426T033241Z
URL:https://members.kearneycoc.org/events/details/kearney-powersports-hustler-demo-day-15440
END:VEVENT

END:VCALENDAR
