BEGIN:VCALENDAR
VERSION:2.0
PRODID:-//ChamberMaster//Event Calendar 2.0//EN
METHOD:PUBLISH
X-PUBLISHED-TTL:P3D
REFRESH-INTERVAL:P3D
CALSCALE:GREGORIAN
BEGIN:VEVENT
DTSTART;VALUE=DATE:20190511
DTEND;VALUE=DATE:20190512
TRANSP:TRANSPARENT
X-MICROSOFT-CDO-ALLDAYEVENT:TRUE
SUMMARY:Kearney R/C Club Fun Fly
DESCRIPTION:*The Kearney R/C club is hosting a radio controlled model aircraft fun fly at Onion Crest Airpark northwest of Kearney. *This event is free and open to the public. Seating is very limited\, bringing your own chair is encouraged. *There is a $20 fee for pilots\, and current AMA membership is required to fly. *To get to Onion Crest Airpark\, go north on Cottomill Avenue until you see Woods Aviation/Onion Crest Airpark sign\, north of 85th street. If you make it to Riverdale\, you have gone too far. Turn east and follow the road between the grain bins around until you see the flying site. *Full size aircraft operate at this field. Always be on the lookout for full size aircraft and yield to them *Map and more info available at kearneyrc.com *Due to space concerns\, please do not bring campers\, RVs\, or large trailers *All ages event *Buddy Box Flights for spectators let everyone try piloting an R/C plane
X-ALT-DESC;FMTTYPE=text/html:*The Kearney R/C club is hosting a radio controlled model aircraft fun fly at Onion Crest Airpark northwest of Kearney. *This event is free and open to the public. Seating is very limited\, bringing your own chair is encouraged. *There is a $20 fee for pilots\, and current AMA membership is required to fly. *To get to Onion Crest Airpark\, go north on Cottomill Avenue until you see Woods Aviation/Onion Crest Airpark sign\, north of 85th street. If you make it to Riverdale\, you have gone too far. Turn east and follow the road between the grain bins around until you see the flying site. *Full size aircraft operate at this field. Always be on the lookout for full size aircraft and yield to them *Map and more info available at kearneyrc.com *Due to space concerns\, please do not bring campers\, RVs\, or large trailers *All ages event *Buddy Box Flights for spectators let everyone try piloting an R/C plane
LOCATION:Onion Crest Airpark\, Northwest of Kearney
UID:e.1404.15425
SEQUENCE:3
DTSTAMP:20260426T004541Z
URL:https://members.kearneycoc.org/events/details/kearney-r-c-club-fun-fly-15425
END:VEVENT

END:VCALENDAR
