BEGIN:VCALENDAR
VERSION:2.0
PRODID:-//ChamberMaster//Event Calendar 2.0//EN
METHOD:PUBLISH
X-PUBLISHED-TTL:P3D
REFRESH-INTERVAL:P3D
CALSCALE:GREGORIAN
BEGIN:VEVENT
DTSTART:20210327T230000Z
DTEND:20210328T033000Z
X-MICROSOFT-CDO-ALLDAYEVENT:FALSE
SUMMARY:Kearney's Dancing With The Stars 4
DESCRIPTION:Kearney's Dancing With The Stars "4" is a fundraising event sponsored by the Kearney Dawn Rotary and Kearney Noon Rotary Clubs. 12 local celebrities will compete in pairs by performing live dance routines at the event. By voting for the dancers online both before and after the event\, Kearney's Rotary Clubs will raise tens of thousands of dollars to support local youth-centered organizations\, including Compass\, Make-A-Wish\, and TeamMates. Additionally\, the funds will support local and international Kearney Noon Rotary and Kearney Dawn Rotary causes. Dancers will be revealed October 12-14\, 2020\, and tickets will go on sale on December 1\, 2020. For more information\, visit KDWTS.org.
X-ALT-DESC;FMTTYPE=text/html:Kearney&#39\;s Dancing With The Stars &quot\;4&quot\; is a fundraising event sponsored by the Kearney Dawn Rotary and Kearney Noon Rotary Clubs. 12 local celebrities will compete in pairs by performing live dance routines at the event. By voting for the dancers online both before and after the event\, Kearney&#39\;s Rotary Clubs will raise tens of thousands of dollars to support local youth-centered organizations\, including Compass\, Make-A-Wish\, and TeamMates. Additionally\, the funds will support local and international Kearney Noon Rotary and Kearney Dawn Rotary causes. Dancers will be revealed October 12-14\, 2020\, and tickets will go on sale on December 1\, 2020. For more information\, visit KDWTS.org.
LOCATION:Younes Conference Center\, 416 W Talmadge Road\, Kearney\, NE 68845
UID:e.1404.18662
SEQUENCE:3
DTSTAMP:20260424T122602Z
URL:https://members.kearneycoc.org/events/details/kearney-s-dancing-with-the-stars-4-18662
END:VEVENT

END:VCALENDAR
