BEGIN:VCALENDAR
VERSION:2.0
PRODID:-//ChamberMaster//Event Calendar 2.0//EN
METHOD:PUBLISH
X-PUBLISHED-TTL:P3D
REFRESH-INTERVAL:P3D
CALSCALE:GREGORIAN
BEGIN:VEVENT
DTSTART:20151116T160000Z
DTEND:20151116T160000Z
X-MICROSOFT-CDO-ALLDAYEVENT:FALSE
SUMMARY:Kearney Small Business Saturday Proclamation
DESCRIPTION:
X-ALT-DESC;FMTTYPE=text/html:
LOCATION:Deterdings 2121 2nd Ave Kearney\, NE
UID:e.1404.7073
SEQUENCE:3
DTSTAMP:20260422T065050Z
URL:https://members.kearneycoc.org/events/details/kearney-small-business-saturday-proclamation-11-16-2015-7073
END:VEVENT

END:VCALENDAR
