BEGIN:VCALENDAR
VERSION:2.0
PRODID:-//ChamberMaster//Event Calendar 2.0//EN
METHOD:PUBLISH
X-PUBLISHED-TTL:P3D
REFRESH-INTERVAL:P3D
CALSCALE:GREGORIAN
BEGIN:VEVENT
DTSTART:20150429T003000Z
DTEND:20150429T023000Z
X-MICROSOFT-CDO-ALLDAYEVENT:FALSE
SUMMARY:Kearney Symphony Orchestra-From Russia With Love
DESCRIPTION:
X-ALT-DESC;FMTTYPE=text/html:
LOCATION:UNK Fine Arts Recital Hall
UID:e.1404.5359
SEQUENCE:3
DTSTAMP:20260422T200415Z
URL:https://members.kearneycoc.org/events/details/kearney-symphony-orchestra-from-russia-with-love-04-28-2015-5359
END:VEVENT

END:VCALENDAR
