BEGIN:VCALENDAR
VERSION:2.0
PRODID:-//ChamberMaster//Event Calendar 2.0//EN
METHOD:PUBLISH
X-PUBLISHED-TTL:P3D
REFRESH-INTERVAL:P3D
CALSCALE:GREGORIAN
BEGIN:VEVENT
DTSTART:20141210T013000Z
DTEND:20141210T033000Z
X-MICROSOFT-CDO-ALLDAYEVENT:FALSE
SUMMARY:Kearney Symphony Orchestra-Music of the Heart & Spirit
DESCRIPTION:
X-ALT-DESC;FMTTYPE=text/html:
LOCATION:UNK Fine Arts Recital Hall
UID:e.1404.5357
SEQUENCE:3
DTSTAMP:20260423T020838Z
URL:https://members.kearneycoc.org/events/details/kearney-symphony-orchestra-music-of-the-heart-spirit-12-09-2014-5357
END:VEVENT

END:VCALENDAR
