BEGIN:VCALENDAR
VERSION:2.0
PRODID:-//ChamberMaster//Event Calendar 2.0//EN
METHOD:PUBLISH
X-PUBLISHED-TTL:P3D
REFRESH-INTERVAL:P3D
CALSCALE:GREGORIAN
BEGIN:VEVENT
DTSTART:20141008T003000Z
DTEND:20141008T023000Z
X-MICROSOFT-CDO-ALLDAYEVENT:FALSE
SUMMARY:Kearney Symphony Orchestra-Music That Inspires
DESCRIPTION:
X-ALT-DESC;FMTTYPE=text/html:
LOCATION:UNK Fine Arts Recital Hall
UID:e.1404.5356
SEQUENCE:3
DTSTAMP:20260423T051347Z
URL:https://members.kearneycoc.org/events/details/kearney-symphony-orchestra-music-that-inspires-10-07-2014-5356
END:VEVENT

END:VCALENDAR
