BEGIN:VCALENDAR
VERSION:2.0
PRODID:-//ChamberMaster//Event Calendar 2.0//EN
METHOD:PUBLISH
X-PUBLISHED-TTL:P3D
REFRESH-INTERVAL:P3D
CALSCALE:GREGORIAN
BEGIN:VEVENT
DTSTART:20150419T000000Z
DTEND:20150419T040000Z
X-MICROSOFT-CDO-ALLDAYEVENT:FALSE
SUMMARY:Kearney Therapeutic Horseback Riding Program - Fool's Night Out
DESCRIPTION:Please join us at Fool's Night Out to support the growth and development of individuals in our community while enjoying an evening filled with fun\, friends and festivities. Fool's Night Out includes casino games\, mock horse races\, a silent auction\, live music and great food.
X-ALT-DESC;FMTTYPE=text/html:Please join us at Fool&#39\;s Night Out to support the growth and development of individuals in our community while enjoying an evening filled with fun\, friends and festivities. Fool&#39\;s Night Out includes casino games\, mock horse races\, a silent&nbsp\;auction\, live music and great food.&nbsp\;
LOCATION:Buffalo County Ag Pavilion 3807 Ave N Kearney NE
UID:e.1404.6205
SEQUENCE:3
DTSTAMP:20260422T182803Z
URL:https://members.kearneycoc.org/events/details/kearney-therapeutic-horseback-riding-program-fool-s-night-out-04-18-2015-6205
END:VEVENT

END:VCALENDAR
