BEGIN:VCALENDAR
VERSION:2.0
PRODID:-//ChamberMaster//Event Calendar 2.0//EN
METHOD:PUBLISH
X-PUBLISHED-TTL:P3D
REFRESH-INTERVAL:P3D
CALSCALE:GREGORIAN
BEGIN:VEVENT
DTSTART:20140427T000000Z
DTEND:20140427T045500Z
X-MICROSOFT-CDO-ALLDAYEVENT:FALSE
SUMMARY:Kearney Therapeutic Horseback Riding Program Fool's Night Out
DESCRIPTION:7-11 PM Silent Auction\n\n9-Midnight Games\n\nCasino games\, mock horse races\, silent auction and great food!  To help support the growth and development of individuals in our community.
X-ALT-DESC;FMTTYPE=text/html:7-11 PM Silent Auction<br />\n9-Midnight Games<br />\nCasino games\, mock horse races\, silent auction and great food! &nbsp\;To help support the growth and development of individuals in our community.&nbsp\;
LOCATION:
UID:e.1404.4692
SEQUENCE:3
DTSTAMP:20260423T150005Z
URL:https://members.kearneycoc.org/events/details/kearney-therapeutic-horseback-riding-program-fool-s-night-out-04-26-2014-4692
END:VEVENT

END:VCALENDAR
