BEGIN:VCALENDAR
VERSION:2.0
PRODID:-//ChamberMaster//Event Calendar 2.0//EN
METHOD:PUBLISH
X-PUBLISHED-TTL:P3D
REFRESH-INTERVAL:P3D
CALSCALE:GREGORIAN
BEGIN:VEVENT
DTSTART:20140625T180000Z
DTEND:20140625T210000Z
X-MICROSOFT-CDO-ALLDAYEVENT:FALSE
SUMMARY:Kearney Town Hall Meeting
DESCRIPTION:Learn more about the legislative process and new "hot topics". The cost of workers' compensation to Nebraska businesses a significant one and directly affects the ability of Nebraska businesses to compete. At the state level\, Nebraska's ability to attract and grow businesses is greatly affected by our workers' compensation system. Only through pro-active legislative efforts and a unified defense against attempts to increase the cost of the system can we keep our system affordable.
X-ALT-DESC;FMTTYPE=text/html:Learn more about the legislative process and new &quot\;hot topics&quot\;. The cost of workers&#39\; compensation to Nebraska businesses a significant one and directly affects the ability of Nebraska businesses to compete. At the state level\, Nebraska&#39\;s ability to attract and grow businesses is greatly affected by our workers&#39\; compensation system. Only through pro-active legislative efforts and a unified defense against attempts to increase the cost of the system can we keep our system affordable.
LOCATION:Younes Conference Center
UID:e.1404.4853
SEQUENCE:3
DTSTAMP:20260423T113937Z
URL:https://members.kearneycoc.org/events/details/kearney-town-hall-meeting-06-25-2014-4853
END:VEVENT

END:VCALENDAR
