BEGIN:VCALENDAR
VERSION:2.0
PRODID:-//ChamberMaster//Event Calendar 2.0//EN
METHOD:PUBLISH
X-PUBLISHED-TTL:P3D
REFRESH-INTERVAL:P3D
CALSCALE:GREGORIAN
BEGIN:VEVENT
DTSTART:20121023T230000Z
DTEND:20121024T020000Z
X-MICROSOFT-CDO-ALLDAYEVENT:FALSE
SUMMARY:Kearney Women's Club "Dressing for Dinner" Fundraiser
DESCRIPTION:Business Speaker\, Sally Santin\, daughter of Dorothy Lynch\, food demonstration and dessert auction.\n\nTickets $13.00
X-ALT-DESC;FMTTYPE=text/html:Business Speaker\, Sally Santin\, daughter of Dorothy Lynch\, food demonstration and dessert auction.<br />\nTickets $13.00
LOCATION:3203 8th Ave\, Kearney\, NE (Countryside Christian Church)
UID:e.1404.2183
SEQUENCE:3
DTSTAMP:20260424T223816Z
URL:https://members.kearneycoc.org/events/details/kearney-women-s-club-dressing-for-dinner-fundraiser-10-23-2012-2183
END:VEVENT

END:VCALENDAR
