BEGIN:VCALENDAR
VERSION:2.0
PRODID:-//ChamberMaster//Event Calendar 2.0//EN
METHOD:PUBLISH
X-PUBLISHED-TTL:P3D
REFRESH-INTERVAL:P3D
CALSCALE:GREGORIAN
BEGIN:VEVENT
DTSTART:20190903T223000Z
DTEND:20190904T010000Z
X-MICROSOFT-CDO-ALLDAYEVENT:FALSE
SUMMARY:Kearney Y Tsunami Swim Team Season Kick Off
DESCRIPTION:GROWING STRONGER AS A TEAM\n\nTSUNAMI SWIM TEAM\n\n 2019-2020 SEASON BEGINS SEPTEMBER 3RD\n\n Join the Kearney Family YMCA Tsunami Swim Team family\, develop skills\, create memories and friendships to last a lifetime. \n\n \n\nCost: Y Membership Required\n\n1st Child: $250 / 2nd Child: $200 / Families of 3+ $600 \n\n*Payment all up front or monthly payment plans available. \n\nContact Collette Kinzie to set up payment plan for monthly payments at registration. (cbuskirk@kearneyymca.org) \n\nAdditional Fees For USA Swimmers Only: (Does not apply to Y league swimmers)\n\nUSA Swimming: $70/swimmer required for all USA Swimmers yearly \n\n*USA Swimmers will have additional meet fees associated with Midwestern Meets\n\n\n\nPractice Times:\n\n10 & Under: Monday\, Tuesday\, Thursdays @ 5:30pm-6:30pm \n\n11 & Older: Monday\, Tuesday\, Thursdays @ 6:30pm-8:00pm\n\nWednesday & Fridays @ 6:30pm-8:00pm (Open to everyone) \n\n\n\nParent Meeting:\n\nTuesday\, August 27th @ 6:30pm in Child Development Center\n\n\n\nOptional Additional Fees:\n\nFan & Team Apparel\, Team Suit (recommended) \, Swim Caps (recommended)\, \n\nand Goggles. *Prices and order forms will be given at parent meeting.
X-ALT-DESC;FMTTYPE=text/html:<span style="color:#000080"><span style="font-size:22px"><span style="font-family:cachet bold">GROWING STRONGER&nbsp\;</span><span style="font-family:cachet bold">AS A TEAM</span></span></span><br />\n<span style="color:#0000FF"><span style="font-size:22px"><span style="font-family:cachet bold">TSUNAMI SWIM TEAM</span></span></span><br />\n&nbsp\;<span style="font-size:22px"><span style="color:black"><span style="font-family:cachet medium">2019-2020 SEASON BEGINS SEPTEMBER 3RD</span></span></span><br />\n&nbsp\;<span style="font-family:cachet medium"><span style="font-size:16.0pt">Join the Kearney Family YMCA Tsunami Swim Team family\, develop skills\, create memories and friendships to last a lifetime. </span></span><br />\n&nbsp\;<br />\n<span style="color:#0060AF"><span style="font-family:cachet medium"><span style="font-size:18.0pt"><span style="font-size:14px">Cost: </span></span></span></span><span style="font-size:14px"><span style="font-family:cachet medium">Y Membership Required</span><br />\n<span style="font-family:cachet book">1st Child: $250 / 2nd Child: $200 / Families of 3+ $600 </span><br />\n<span style="font-family:cachet book">*Payment all up front or monthly payment plans available. </span><br />\n<span style="font-family:cachet book">Contact Collette Kinzie to set up payment plan for monthly payments </span><span style="font-family:cachet book">at registration. (cbuskirk@kearneyymca.org) </span><br />\n<span style="color:#0060AF"><span style="font-family:cachet medium">Additional Fees For USA Swimmers Only: (Does not apply to Y league swimmers)</span></span><br />\n<span style="font-family:cachet book">USA Swimming: $70/swimmer required for all USA Swimmers yearly </span><br />\n<span style="font-family:cachet book">*USA Swimmers will have additional meet fees associated with Midwestern Meets</span><br />\n<br />\n<span style="color:#0060AF"><span style="font-family:cachet medium">Practice Times:</span></span><br />\n<span style="font-family:cachet book">10 &amp\; Under: Monday\, Tuesday\, Thursdays @ 5:30pm-6:30pm </span><br />\n<span style="font-family:cachet book">11 &amp\; Older: Monday\, Tuesday\, Thursdays @ 6:30pm-8:00pm</span><br />\n<span style="font-family:cachet book">Wednesday &amp\; Fridays @ 6:30pm-8:00pm (Open to everyone) </span><br />\n<br />\n<span style="color:#C00000"><span style="font-family:cachet medium">Parent Meeting:</span></span><br />\n<span style="font-family:cachet medium">Tuesday\, August 27th @ 6:30pm </span><span style="font-family:cachet book">in Child Development Center</span><br />\n<br />\n<span style="color:#0060AF"><span style="font-family:cachet medium">Optional Additional Fees:</span></span><br />\n<span style="font-family:cachet book">Fan &amp\; Team Apparel</span><span style="color:#C00000"><span style="font-family:cachet book">\, </span></span><span style="font-family:cachet book">Team Suit</span> <span style="font-family:cachet book">(recommended) \, Swim Caps</span> <span style="font-family:cachet book">(recommended)\, </span><br />\n<span style="font-family:cachet book">and Goggles</span><span style="color:#C00000"><span style="font-family:cachet book">. *</span></span><span style="font-family:cachet book">Prices and order forms will be given at parent meeting.</span><br />\n&nbsp\;</span>
LOCATION:Kearney Family YMCA Pool
UID:e.1404.16646
SEQUENCE:3
DTSTAMP:20260425T181152Z
URL:https://members.kearneycoc.org/events/details/kearney-y-tsunami-swim-team-season-kick-off-16646
END:VEVENT

END:VCALENDAR
