BEGIN:VCALENDAR
VERSION:2.0
PRODID:-//ChamberMaster//Event Calendar 2.0//EN
METHOD:PUBLISH
X-PUBLISHED-TTL:P3D
REFRESH-INTERVAL:P3D
CALSCALE:GREGORIAN
BEGIN:VEVENT
DTSTART:20161015T140000Z
DTEND:20161015T220000Z
X-MICROSOFT-CDO-ALLDAYEVENT:FALSE
SUMMARY:KHS Cheerleading Fundraiser
DESCRIPTION:It's time to do some decluttering! KHS Cheerleading will be collecting donated items the week of October 10th for a garage sale fundraiser. All items donated will be stored at the Hilltop Mall's old Famous Footwear. The sale will take place in the parking lot of JCPenney on October 15th from 9am-2pm. Please spread the word to your family and friends if they would like to donate items. If you have any questions please contact RaChell Merklin at 308-233-1383 or email rachellmerklin@gmail.com
X-ALT-DESC;FMTTYPE=text/html:It&rsquo\;s time to do some decluttering! KHS Cheerleading will be collecting donated items the week of October 10th for a garage sale fundraiser. All items donated will be stored at the Hilltop Mall&rsquo\;s old Famous Footwear. The sale will take place in the parking lot of JCPenney on October 15th from 9am-2pm. Please spread the word to your family and friends if they would like to donate items. If you have any questions please contact RaChell Merklin at 308-233-1383 or email rachellmerklin@gmail.com
LOCATION:Hilltop Mall JCPenney Parking Lot 5011 2nd Ave Kearney\, NE 68847
UID:e.1404.9049
SEQUENCE:3
DTSTAMP:20260421T122413Z
URL:https://members.kearneycoc.org/events/details/khs-cheerleading-fundraiser-9049
END:VEVENT

END:VCALENDAR
