BEGIN:VCALENDAR
VERSION:2.0
PRODID:-//ChamberMaster//Event Calendar 2.0//EN
METHOD:PUBLISH
X-PUBLISHED-TTL:P3D
REFRESH-INTERVAL:P3D
CALSCALE:GREGORIAN
BEGIN:VEVENT
DTSTART:20150712T223000Z
DTEND:20150713T010000Z
X-MICROSOFT-CDO-ALLDAYEVENT:FALSE
SUMMARY:Kids & Dreams Dinner
DESCRIPTION:Nebraska Children's Home Society is hosting its 2nd Annual NCHS Fundraising Banquet at the Younes Conference Center.  There will be a complimentary dinner and program at 6 p.m. Attire is business casual.
X-ALT-DESC;FMTTYPE=text/html:Nebraska Children&#39\;s Home Society is hosting its 2nd Annual NCHS Fundraising Banquet at the Younes Conference Center. &nbsp\;There will be a complimentary dinner and program at 6 p.m. Attire is business casual.
LOCATION:Younes Conference Center 416 Talmadge Rd.
UID:e.1404.6467
SEQUENCE:3
DTSTAMP:20260422T132630Z
URL:https://members.kearneycoc.org/events/details/kids-dreams-dinner-07-12-2015-6467
END:VEVENT

END:VCALENDAR
