BEGIN:VCALENDAR
VERSION:2.0
PRODID:-//ChamberMaster//Event Calendar 2.0//EN
METHOD:PUBLISH
X-PUBLISHED-TTL:P3D
REFRESH-INTERVAL:P3D
CALSCALE:GREGORIAN
BEGIN:VEVENT
DTSTART:20190309T000000Z
DTEND:20190309T023000Z
X-MICROSOFT-CDO-ALLDAYEVENT:FALSE
SUMMARY:Kids Night Out at the Museum
DESCRIPTION:Bring your little leprechauns to the museum for a fun evening with their friends! They will enjoy free play in exhibits\, an educational activity or craft\, dinner\, and more! Dinner will be corn dogs\, fruit\, cookie\, lemonade or water. \n\n\n\nIf children have any food allergies\, or do not like the meal provided\, they are welcome to bring their own dinner along with them. \n\n\n\nThis event is for children ages 3-12. Please note: all children 3 years old must be potty trained and be able to use the bathroom independently. Thank you!
X-ALT-DESC;FMTTYPE=text/html:<br />\nBring your little leprechauns to the museum for a fun evening with their friends! They will enjoy free play in exhibits\, an educational activity or craft\, dinner\, and more! Dinner will be corn dogs\, fruit\, cookie\, lemonade or water.&nbsp\;<br />\n<br />\nIf children have any food allergies\, or do not like the meal provided\, they are welcome to bring their own dinner along with them.&nbsp\;<br />\n<br />\nThis event is for children ages 3-12.&nbsp\;Please note: all children 3&nbsp\;years old must be potty trained and be able to use the bathroom independently. Thank you!&nbsp\;
LOCATION:Kearney Area Children's Museum The Alia Arram Memorial Building 5827 4th Avenue\, Kearney\, NE 68845
UID:e.1404.15416
SEQUENCE:3
DTSTAMP:20260426T033410Z
URL:https://members.kearneycoc.org/events/details/kids-night-out-at-the-museum-03-08-2019-15416
END:VEVENT

END:VCALENDAR
