BEGIN:VCALENDAR
VERSION:2.0
PRODID:-//ChamberMaster//Event Calendar 2.0//EN
METHOD:PUBLISH
X-PUBLISHED-TTL:P3D
REFRESH-INTERVAL:P3D
CALSCALE:GREGORIAN
BEGIN:VEVENT
DTSTART:20210813T230000Z
DTEND:20210814T013000Z
X-MICROSOFT-CDO-ALLDAYEVENT:FALSE
SUMMARY:Kids Night Out at the Museum - Back to School!
DESCRIPTION:Summer has ended but the fun continues! Join us for an evening of fun games\, crafts\, and Museum play!\n\nDinner   Popcorn Chicken\, cookie\, fruit. Children will need a water bottle.\n\nFriday\, August\, 13 from 6:00-8:30 PM\n\n$10 Members / $20 Non Members\n\nAges 3*-12\n\n*All 3 year olds need to be potty trained to attend*
X-ALT-DESC;FMTTYPE=text/html:<p>Summer has ended but the fun continues! Join us for an evening of fun games\, crafts\, and Museum play!</p>\n\n<p>Dinner &ndash\; Popcorn Chicken\, cookie\, fruit.&nbsp\;Children will need a water bottle.</p>\n\n<p>Friday\, August\, 13 from 6:00-8:30 PM</p>\n\n<p>$10 Members&nbsp\;/&nbsp\;$20 Non Members</p>\n\n<p>Ages&nbsp\;3*-12</p>\n\n<p>*All 3 year olds need to be potty trained to attend*</p>\n
LOCATION:Kearney Area Children's Museum 5827 4th Avenue\, Kearney\, NE 68845
UID:e.1404.19343
SEQUENCE:3
DTSTAMP:20260424T021548Z
URL:https://members.kearneycoc.org/events/details/kids-night-out-at-the-museum-back-to-school-19343
END:VEVENT

END:VCALENDAR
