BEGIN:VCALENDAR
VERSION:2.0
PRODID:-//ChamberMaster//Event Calendar 2.0//EN
METHOD:PUBLISH
X-PUBLISHED-TTL:P3D
REFRESH-INTERVAL:P3D
CALSCALE:GREGORIAN
BEGIN:VEVENT
DTSTART:20190719T230000Z
DTEND:20190720T020000Z
X-MICROSOFT-CDO-ALLDAYEVENT:FALSE
SUMMARY:Kids Night Out at the Museum: Cruise Night Special
DESCRIPTION:Cruise on in for an evening with a classic twist! Kids can bring their bikes or scooters (don't forget helmets) and ride around our parking before the sun goes down. They will also enjoy free play in exhibits\, an educational activity or craft\, dinner\, and more!\n\nDinner will be sandwiches\, fruit\, cookie\, lemonade or water.\n\n\n\nIf children have any food allergies\, or do not like the meal provided\, they are welcome to bring their own dinner along with them. \n\n\n\nThis event is for children ages 3-12. \n\n\n\nPlease note: all children 3 years old must be potty trained and be able to use the bathroom independently. Thank you!
X-ALT-DESC;FMTTYPE=text/html:Cruise on in for an evening with a classic twist! Kids can bring their bikes or scooters (don&#39\;t forget helmets) and ride around our parking before the sun goes down. They will also enjoy free play in exhibits\, an educational activity or craft\, dinner\, and more!<br />\nDinner will be sandwiches\, fruit\, cookie\, lemonade or water.<br />\n<br />\nIf children have any food allergies\, or do not like the meal provided\, they are welcome to bring their own dinner along with them.&nbsp\;<br />\n<br />\nThis event is for children ages 3-12.&nbsp\;<br />\n<br />\nPlease note: all children 3&nbsp\;years old must be potty trained and be able to use the bathroom independently. Thank you!&nbsp\;
LOCATION:Kearney Area Children's Museum Alia Arram Memorial Building 5827 4th Avenue\, Kearney\, NE 68845
UID:e.1404.16566
SEQUENCE:3
DTSTAMP:20260425T213401Z
URL:https://members.kearneycoc.org/events/details/kids-night-out-at-the-museum-cruise-night-special-16566
END:VEVENT

END:VCALENDAR
