BEGIN:VCALENDAR
VERSION:2.0
PRODID:-//ChamberMaster//Event Calendar 2.0//EN
METHOD:PUBLISH
X-PUBLISHED-TTL:P3D
REFRESH-INTERVAL:P3D
CALSCALE:GREGORIAN
BEGIN:VEVENT
DTSTART:20210910T230000Z
DTEND:20210911T013000Z
X-MICROSOFT-CDO-ALLDAYEVENT:FALSE
SUMMARY:Kids Night Out at the Museum - Glow Night!
DESCRIPTION:Join us for a night of fun "glow-in-the-dark" challenges!\n\nDinner   Ham or turkey sandwich\, cookie\, fruit. Children will need a water bottle.\n\nFriday\, September 10 from 6:00-8:30 PM\n\n$10 Members / $20 Non Members\n\nAges 3*-12\n\n*All 3 year olds need to be potty trained to attend*
X-ALT-DESC;FMTTYPE=text/html:<p>Join us for a night of fun &ldquo\;glow-in-the-dark&rdquo\; challenges!</p>\n\n<p>Dinner &ndash\; Ham or turkey sandwich\, cookie\, fruit.&nbsp\;Children will need a water bottle.</p>\n\n<p>Friday\, September 10 from 6:00-8:30 PM</p>\n\n<p>$10 Members&nbsp\;/&nbsp\;$20 Non Members</p>\n\n<p>Ages&nbsp\;3*-12</p>\n\n<p>*All 3 year olds need to be potty trained to attend*</p>\n
LOCATION:Kearney Area Children's Museum 5827 4th Avenue\, Kearney\, NE 68845
UID:e.1404.19345
SEQUENCE:3
DTSTAMP:20260424T020859Z
URL:https://members.kearneycoc.org/events/details/kids-night-out-at-the-museum-glow-night-19345
END:VEVENT

END:VCALENDAR
