BEGIN:VCALENDAR
VERSION:2.0
PRODID:-//ChamberMaster//Event Calendar 2.0//EN
METHOD:PUBLISH
X-PUBLISHED-TTL:P3D
REFRESH-INTERVAL:P3D
CALSCALE:GREGORIAN
BEGIN:VEVENT
DTSTART:20220624T230000Z
DTEND:20220625T020000Z
X-MICROSOFT-CDO-ALLDAYEVENT:FALSE
SUMMARY:Kids Night Out - Game Night!
DESCRIPTION:Kids will enjoy an evening of games such as BINGO\, hot potato\, cup-stacking and more!\n\nDinner provided. \n\nThis event is held in conjunction of our Couples Trivia Night.\n\nFor ages 3-10
X-ALT-DESC;FMTTYPE=text/html:Kids will enjoy an evening of games such as BINGO\, hot potato\, cup-stacking and more!<br />\nDinner provided.&nbsp\;<br />\nThis event is held in conjunction of our Couples Trivia Night.<br />\nFor ages 3-10
LOCATION:Kearney Area Children's Museum 58274th Avenue\, Kearney\, NE 68845
UID:e.1404.19951
SEQUENCE:3
DTSTAMP:20260423T103642Z
URL:https://members.kearneycoc.org/events/details/kids-night-out-game-night-19951
END:VEVENT

END:VCALENDAR
