BEGIN:VCALENDAR
VERSION:2.0
PRODID:-//ChamberMaster//Event Calendar 2.0//EN
METHOD:PUBLISH
X-PUBLISHED-TTL:P3D
REFRESH-INTERVAL:P3D
CALSCALE:GREGORIAN
BEGIN:VEVENT
DTSTART:20160729T160000Z
DTEND:20160729T230000Z
X-MICROSOFT-CDO-ALLDAYEVENT:FALSE
SUMMARY:Kiwanis Golf Scramble
DESCRIPTION:Come out and enjoy the 2016 Kiwanis Golf Scramble\, while supporting the Kiwanis Mission of making a positive impact in the lives of children. There will be free range balls at the practice range starting at 11:00am\, and the tournament starts at 1:00pm. If you are interested in having a team or being a main sponsor\, contact Al at (308) 224-4658.
X-ALT-DESC;FMTTYPE=text/html:Come out and enjoy the 2016 Kiwanis Golf Scramble\, while supporting the Kiwanis Mission of making a positive impact in the lives of children. There will be free range balls at the practice range starting at 11:00am\, and the tournament starts at 1:00pm. If you are interested in having a team or being a main sponsor\, contact Al at (308) 224-4658.
LOCATION:Meadowlark Hills Golf Course
UID:e.1404.8930
SEQUENCE:3
DTSTAMP:20260421T171303Z
URL:https://members.kearneycoc.org/events/details/kiwanis-golf-scramble-07-29-2016-8930
END:VEVENT

END:VCALENDAR
