BEGIN:VCALENDAR
VERSION:2.0
PRODID:-//ChamberMaster//Event Calendar 2.0//EN
METHOD:PUBLISH
X-PUBLISHED-TTL:P3D
REFRESH-INTERVAL:P3D
CALSCALE:GREGORIAN
BEGIN:VEVENT
DTSTART:20150731T160000Z
DTEND:20150731T230000Z
X-MICROSOFT-CDO-ALLDAYEVENT:FALSE
SUMMARY:Kiwanis Golf Tournament
DESCRIPTION:The 2015 Kiwanis Community Golf Benefit will be held at Meadowlark Hills Golf Course on July 31. Golfers compete for prizes. Enjoy a sack lunch before heading out on the course for 18 holes\, and join the rest of the players for a buffet sponsored by Alley Rose after the tournament. In addition to a 4-person team\, Main Sponsors will also be recognized with a large teardrop banner. Come out to join in the fun\, and help Kearney Kiwanis Clubs provide support for youth activities through sports\, education\, and health programs.
X-ALT-DESC;FMTTYPE=text/html:The 2015 Kiwanis Community Golf Benefit will be held at Meadowlark Hills Golf Course on July 31. Golfers compete for prizes. Enjoy a sack lunch before heading out on the course for 18 holes\, and join the rest of the players for a buffet sponsored by Alley Rose after the tournament. In addition to a 4-person team\, Main Sponsors will also be recognized with a large teardrop banner. Come out to join in the fun\, and help Kearney Kiwanis Clubs provide support for youth activities through sports\, education\, and health programs.
LOCATION:Meadowlark Hills Golf Course
UID:e.1404.6637
SEQUENCE:3
DTSTAMP:20260422T132802Z
URL:https://members.kearneycoc.org/events/details/kiwanis-golf-tournament-07-31-2015-6637
END:VEVENT

END:VCALENDAR
