BEGIN:VCALENDAR
VERSION:2.0
PRODID:-//ChamberMaster//Event Calendar 2.0//EN
METHOD:PUBLISH
X-PUBLISHED-TTL:P3D
REFRESH-INTERVAL:P3D
CALSCALE:GREGORIAN
BEGIN:VEVENT
DTSTART:20160213T130000Z
DTEND:20160213T200000Z
X-MICROSOFT-CDO-ALLDAYEVENT:FALSE
SUMMARY:Kiwanis Pancake Day
DESCRIPTION:Kiwanis Pancake Day - Kearney Kiwanis Clubs serve up pancakes and sausage for their annual fundraising event to help support local service projects and youth activities.
X-ALT-DESC;FMTTYPE=text/html:Kiwanis Pancake Day - Kearney Kiwanis Clubs serve up pancakes and sausage for their annual fundraising event to help support local service projects and youth activities.
LOCATION:Sunrise Middle School 4611 Avenue N Kearney\, NE 68847
UID:e.1404.7332
SEQUENCE:3
DTSTAMP:20260422T012101Z
URL:https://members.kearneycoc.org/events/details/kiwanis-pancake-day-02-13-2016-7332
END:VEVENT

END:VCALENDAR
