BEGIN:VCALENDAR
VERSION:2.0
PRODID:-//ChamberMaster//Event Calendar 2.0//EN
METHOD:PUBLISH
X-PUBLISHED-TTL:P3D
REFRESH-INTERVAL:P3D
CALSCALE:GREGORIAN
BEGIN:VEVENT
DTSTART:20150214T130000Z
DTEND:20150214T200000Z
X-MICROSOFT-CDO-ALLDAYEVENT:FALSE
SUMMARY:Kiwanis Pancake Day
DESCRIPTION:Kiwanis Pancake Day The Kearney Kiwanis clubs are hosting the annual Kiwanis Pancake Day on February 14. Kiwanis clubs support local youth programs and activities. Other activities the day of the event include the Literacy Council Book Sale\, Little League Silent Auction\, and Golden K Kiwanis Community Garage Sale.
X-ALT-DESC;FMTTYPE=text/html:Kiwanis Pancake Day The Kearney Kiwanis clubs are hosting the annual Kiwanis Pancake Day on February 14. Kiwanis clubs support local youth programs and activities. Other activities the day of the event include the Literacy Council Book Sale\, Little League Silent Auction\, and Golden K Kiwanis Community Garage Sale.
LOCATION:Sunrise Middle School 4611 Avenue N\, Kearney\, NE
UID:e.1404.5989
SEQUENCE:3
DTSTAMP:20260424T090018Z
URL:https://members.kearneycoc.org/events/details/kiwanis-pancake-day-02-14-2015-5989
END:VEVENT

END:VCALENDAR
