BEGIN:VCALENDAR
VERSION:2.0
PRODID:-//ChamberMaster//Event Calendar 2.0//EN
METHOD:PUBLISH
X-PUBLISHED-TTL:P3D
REFRESH-INTERVAL:P3D
CALSCALE:GREGORIAN
BEGIN:VEVENT
DTSTART:20191016T003000Z
DTEND:20191016T020000Z
X-MICROSOFT-CDO-ALLDAYEVENT:FALSE
SUMMARY:KSO Concert: Scary Tales
DESCRIPTION:Come 'Join in the Music' as the Kearney Symphony Orchestra presents their season opener concert\, "Scary Tales". Featuring Prokofiev's "Peter and the Wolf" and a world premiere saxophone concerto by Robert Gross. Guests include UNK Reynolds Chair Brad Modlin as narrator\, Dr. Sharon Campbell - Mezzo-Soprano\, and Dr. David Nabb - alto saxophone.
X-ALT-DESC;FMTTYPE=text/html:Come &#39\;Join in the Music&#39\; as the Kearney Symphony Orchestra presents their season opener concert\, &quot\;Scary Tales&quot\;. Featuring Prokofiev&#39\;s &ldquo\;Peter and the Wolf&rdquo\; and a world premiere saxophone concerto by Robert Gross. Guests include UNK Reynolds Chair Brad Modlin as narrator\, Dr. Sharon Campbell - Mezzo-Soprano\, and Dr. David Nabb - alto saxophone.
LOCATION:UNK FAB Recital Hall
UID:e.1404.18149
SEQUENCE:3
DTSTAMP:20260425T164123Z
URL:https://members.kearneycoc.org/events/details/kso-concert-scary-tales-18149
END:VEVENT

END:VCALENDAR
