BEGIN:VCALENDAR
VERSION:2.0
PRODID:-//ChamberMaster//Event Calendar 2.0//EN
METHOD:PUBLISH
X-PUBLISHED-TTL:P3D
REFRESH-INTERVAL:P3D
CALSCALE:GREGORIAN
BEGIN:VEVENT
DTSTART:20131019T150000Z
DTEND:20131019T180000Z
X-MICROSOFT-CDO-ALLDAYEVENT:FALSE
SUMMARY:KVB Loper Alley Tailgate
DESCRIPTION:UNK Lopers will be taking on Lincoln University of Missouri\n\n\n\nFood to be provided by the KVB and drinks provided by the Cellar Bar & Grill
X-ALT-DESC;FMTTYPE=text/html:UNK Lopers will be taking on Lincoln University of Missouri<br />\n<br />\nFood to be provided by the KVB and drinks provided by the Cellar Bar &amp\; Grill<br />\n
LOCATION:Loper Alley (South Section of Lot 13\, UNK Campus)
UID:e.1404.3324
SEQUENCE:3
DTSTAMP:20260424T020613Z
URL:https://members.kearneycoc.org/events/details/kvb-loper-alley-tailgate-10-19-2013-3324
END:VEVENT

END:VCALENDAR
