BEGIN:VCALENDAR
VERSION:2.0
PRODID:-//ChamberMaster//Event Calendar 2.0//EN
METHOD:PUBLISH
X-PUBLISHED-TTL:P3D
REFRESH-INTERVAL:P3D
CALSCALE:GREGORIAN
BEGIN:VEVENT
DTSTART:20140405T130000Z
DTEND:20140405T190000Z
X-MICROSOFT-CDO-ALLDAYEVENT:FALSE
SUMMARY:Ladies Day Out at Cabela's
DESCRIPTION:The event is designed to recognize the growing population of women enjoying the outdoors across Nebraska. It will feature hands-on demonstrations\, seminars\, live archery practice\, giveaways\, samples and more   and the first 100 women through the doors will receive a special gift.
X-ALT-DESC;FMTTYPE=text/html:<span style="font-size: 12pt"><span style="font-family: times new roman">The event is designed to recognize the growing population of women enjoying the outdoors across Nebraska. It will feature hands-on demonstrations\, seminars\, live archery practice\, giveaways\, samples and more &ndash\; and the first 100 women through the doors will receive a special gift.</span></span>
LOCATION:Cabela?s 3600 E Hwy 30\, Kearney\, NE 68847
UID:e.1404.4677
SEQUENCE:3
DTSTAMP:20260423T150001Z
URL:https://members.kearneycoc.org/events/details/ladies-day-out-at-cabela-s-04-05-2014-4677
END:VEVENT

END:VCALENDAR
