BEGIN:VCALENDAR
VERSION:2.0
PRODID:-//ChamberMaster//Event Calendar 2.0//EN
METHOD:PUBLISH
X-PUBLISHED-TTL:P3D
REFRESH-INTERVAL:P3D
CALSCALE:GREGORIAN
BEGIN:VEVENT
DTSTART:20121117T160000Z
DTEND:20121117T230000Z
X-MICROSOFT-CDO-ALLDAYEVENT:FALSE
SUMMARY:Ladies Day Out - Hope For The Holidays
DESCRIPTION:Come shop for your friends and family while helping out an amazing group! There will be vendors from all over displaying their products and taking orders. The Eagles will be serving lunch from 11:30 to 1:00 and the bar will be open so bring your significant other along and they can watch the game while you shop! *Door Prize Drawings Every Hour!* The proceeds for this event will be going to the 2013 HOPE Benefit.
X-ALT-DESC;FMTTYPE=text/html:Come shop for your friends and family while helping out an amazing group! There will be vendors from all over displaying their products and taking orders. The Eagles will be serving lunch from 11:30 to 1:00 and the bar will be open so bring your significant other along and they can watch the game while you shop! *Door Prize Drawings Every Hour!* The proceeds for this event will be going to the 2013 HOPE Benefit.
LOCATION:The Eagles Club 17 West 24th Street Kearney\, NE
UID:e.1404.2210
SEQUENCE:3
DTSTAMP:20260424T223841Z
URL:https://members.kearneycoc.org/events/details/ladies-day-out-hope-for-the-holidays-11-17-2012-2210
END:VEVENT

END:VCALENDAR
