BEGIN:VCALENDAR
VERSION:2.0
PRODID:-//ChamberMaster//Event Calendar 2.0//EN
METHOD:PUBLISH
X-PUBLISHED-TTL:P3D
REFRESH-INTERVAL:P3D
CALSCALE:GREGORIAN
BEGIN:VEVENT
DTSTART:20131115T000000Z
DTEND:20131115T020000Z
X-MICROSOFT-CDO-ALLDAYEVENT:FALSE
SUMMARY:Ladies Night at Builders
DESCRIPTION:
X-ALT-DESC;FMTTYPE=text/html:
LOCATION:4600 2nd Ave Kearney\, NE
UID:e.1404.3371
SEQUENCE:3
DTSTAMP:20260424T003513Z
URL:https://members.kearneycoc.org/events/details/ladies-night-at-builders-11-14-2013-3371
END:VEVENT

END:VCALENDAR
