BEGIN:VCALENDAR
VERSION:2.0
PRODID:-//ChamberMaster//Event Calendar 2.0//EN
METHOD:PUBLISH
X-PUBLISHED-TTL:P3D
REFRESH-INTERVAL:P3D
CALSCALE:GREGORIAN
BEGIN:VEVENT
DTSTART:20121109T000000Z
DTEND:20121109T020000Z
X-MICROSOFT-CDO-ALLDAYEVENT:FALSE
SUMMARY:Ladies Night at Builders in Kearney
DESCRIPTION:Join us for Ladies Night! Let us cater to you! We will be having food\, drinks\, fresh wreaths\, holiday decor\, gift ideas\, demos\, sales\, prizes\, pinterest ideas and activities! Bring a friend or two (or more) and enjoy!
X-ALT-DESC;FMTTYPE=text/html:<span itemprop="description">Join us for Ladies Night! Let us cater to you! We will be having food\, drinks\, fresh wreaths\, holiday decor\, gift ideas\, demos\, sales\, prizes\, pinterest ideas and activities! Bring a friend or two (or more) and enjoy!</span>
LOCATION:Builders. 4600 2nd Ave\, Kearney\, Ne 68848
UID:e.1404.2202
SEQUENCE:3
DTSTAMP:20260424T223746Z
URL:https://members.kearneycoc.org/events/details/ladies-night-at-builders-in-kearney-11-08-2012-2202
END:VEVENT

END:VCALENDAR
