BEGIN:VCALENDAR
VERSION:2.0
PRODID:-//ChamberMaster//Event Calendar 2.0//EN
METHOD:PUBLISH
X-PUBLISHED-TTL:P3D
REFRESH-INTERVAL:P3D
CALSCALE:GREGORIAN
BEGIN:VEVENT
DTSTART:20160214T000000Z
DTEND:20160214T030000Z
X-MICROSOFT-CDO-ALLDAYEVENT:FALSE
SUMMARY:Laugh & Love Dinner & Comedy Date Night
DESCRIPTION:Impact Kearney Presents\, ?Laugh & Love Dinner & Comedy Show! Join other couples for a nice meal followed by a comedy show with Jonnie W. Entering the comedy scene with nothing more than a guitar and his razor-sharp wit\, he has gone on to entertain multi-generational audiences nationwide. When not performing at solo events\, Jonnie joins fellow funny man Tim Hawkins on his ?Rockshow Comedy Tour?\, delivering the funny at sold out shows coast to coast. Jonnie blends musical chops\, mad vocals\, and off-beat standup for a hilariously unique comedy experience. Tickets for this amazing night are only $60 for one couple. If you like\, you can purchase a whole table for 5 couples for $275. That?s a $25 savings AND you get to pick who you sit with! Last year this event sold out so go to www.impactkearney.com to purchase your tickets now!
X-ALT-DESC;FMTTYPE=text/html:Impact Kearney Presents\, ?Laugh &amp\; Love Dinner &amp\; Comedy Show! Join other couples for a nice meal followed by a comedy show with Jonnie W. Entering the comedy scene with nothing more than a guitar and his razor-sharp wit\, he has gone on to entertain multi-generational audiences nationwide. When not performing at solo events\, Jonnie joins fellow funny man Tim Hawkins on his ?Rockshow Comedy Tour?\, delivering the funny at sold out shows coast to coast. Jonnie blends musical chops\, mad vocals\, and off-beat standup for a hilariously unique comedy experience. Tickets for this amazing night are only $60 for one couple. If you like\, you can purchase a whole table for 5 couples for $275. That?s a $25 savings AND you get to pick who you sit with! Last year this event sold out so go to www.impactkearney.com to purchase your tickets now!
LOCATION:Younes Conference Center 416 Talmadge Rd Kearney\, NE 68845
UID:e.1404.7507
SEQUENCE:3
DTSTAMP:20260422T012141Z
URL:https://members.kearneycoc.org/events/details/laugh-love-dinner-comedy-date-night-02-13-2016-7507
END:VEVENT

END:VCALENDAR
