BEGIN:VCALENDAR
VERSION:2.0
PRODID:-//ChamberMaster//Event Calendar 2.0//EN
METHOD:PUBLISH
X-PUBLISHED-TTL:P3D
REFRESH-INTERVAL:P3D
CALSCALE:GREGORIAN
BEGIN:VEVENT
DTSTART:20211020T160000Z
DTEND:20211020T190000Z
X-MICROSOFT-CDO-ALLDAYEVENT:FALSE
SUMMARY:Law Enforcement Appreciation Lunch
DESCRIPTION:Law Enforcement Appreciation BBQ hosted at Berkshire Hathaway Home Services. Food provided by FNBO.  Free for Law Enforcement and their families.
X-ALT-DESC;FMTTYPE=text/html:Law Enforcement Appreciation BBQ hosted at Berkshire Hathaway Home Services. Food provided by FNBO.&nbsp\; Free for Law Enforcement and their families.&nbsp\;&nbsp\;&nbsp\;&nbsp\;
LOCATION:5609 1st Ave.\, Kearney\, NE 68847
UID:e.1404.19440
SEQUENCE:3
DTSTAMP:20260423T232500Z
URL:https://members.kearneycoc.org/events/details/law-enforcement-appreciation-lunch-19440
END:VEVENT

END:VCALENDAR
