BEGIN:VCALENDAR
VERSION:2.0
PRODID:-//ChamberMaster//Event Calendar 2.0//EN
METHOD:PUBLISH
X-PUBLISHED-TTL:P3D
REFRESH-INTERVAL:P3D
CALSCALE:GREGORIAN
BEGIN:VEVENT
DTSTART;VALUE=DATE:20211018
DTEND;VALUE=DATE:20211023
TRANSP:TRANSPARENT
X-MICROSOFT-CDO-ALLDAYEVENT:TRUE
SUMMARY:Law Enforcement Appreciation Week
DESCRIPTION:Join us October 18 - 22 for Law Enforcement Appreciation Week!\n\n\n\nMonday - Lunch with Law Enforcement. In the desire to seek a positive relationship with Law Enforcement officers in our community\, we welcome them to enjoy lunch with elementary students and staff.\n\n\n\nTuesday - Tour of Law Enforcement Center. The police department extends an open invitation for the public to come visit them. Meet and greet your local law enforcement officers at the police station and get a tour of the facilities. \n\n\n\nWednesday - Donut Worry\, Be Happy. Middle and high school students will start their day with high fives and donuts provided by local law enforcement! Schools will have law enforcement themes throughout the week.\n\n\n\nThursday - Law Enforcement Appreciation Night. Food\, bouncy houses\, laser tag\, obstacle course\, dunk tank\, drone\, motorcycle & K9 demonstrations\, and more! With special guest speaker Lieutenant Governor Mike Foley.\n\n\n\nFriday - Loper Law Enforcement Night. Buffalo County will honor our law enforcement and their families by allowing them free entry to the UNK Lopers Volleyball Game. Game begins at 6:00 PM\n\n\n\nBuffalo County Fairgrounds - 4:00 PM - 7:00 PM
X-ALT-DESC;FMTTYPE=text/html:Join us October 18 - 22 for Law Enforcement Appreciation Week!<br />\n<br />\nMonday - <strong>Lunch with Law Enforcement</strong>. In the desire to seek a positive relationship with Law Enforcement officers in our community\, we welcome them to enjoy lunch with elementary students and staff.<br />\n<br />\nTuesday - Tour of Law Enforcement Center. The police department extends an open invitation for the public to come visit them. Meet and greet your local law enforcement officers at the police station and get a tour of the facilities.&nbsp\;<br />\n<br />\nWednesday - Donut Worry\, Be Happy. Middle and high school students will start their day with high fives and donuts provided by local law enforcement! Schools will have law enforcement themes throughout the week.<br />\n<br />\nThursday - Law Enforcement Appreciation Night. Food\, bouncy houses\, laser tag\, obstacle course\, dunk tank\, drone\, motorcycle &amp\; K9 demonstrations\, and more! With special guest speaker Lieutenant Governor Mike Foley.<br />\n<br />\nFriday - Loper Law Enforcement Night. Buffalo County will honor our law enforcement and their families by allowing them free entry to the UNK Lopers Volleyball Game. Game begins at 6:00 PM<br />\n<br />\nBuffalo County Fairgrounds - 4:00 PM - 7:00 PM
LOCATION:
UID:e.1404.19426
SEQUENCE:3
DTSTAMP:20260423T231814Z
URL:https://members.kearneycoc.org/events/details/law-enforcement-appreciation-week-19426
END:VEVENT

END:VCALENDAR
