BEGIN:VCALENDAR
VERSION:2.0
PRODID:-//ChamberMaster//Event Calendar 2.0//EN
METHOD:PUBLISH
X-PUBLISHED-TTL:P3D
REFRESH-INTERVAL:P3D
CALSCALE:GREGORIAN
BEGIN:VEVENT
DTSTART:20190908T020000Z
DTEND:20190908T060000Z
X-MICROSOFT-CDO-ALLDAYEVENT:FALSE
SUMMARY:Lazy Wayne Band LIVE at JD's
DESCRIPTION:We hope you can join us to listen to LIVE music from the Lazy Wayne Band!
X-ALT-DESC;FMTTYPE=text/html:We hope you can join us to listen to LIVE music from the Lazy Wayne Band!
LOCATION:JD's 2023 1st Ave.
UID:e.1404.17857
SEQUENCE:3
DTSTAMP:20260425T180822Z
URL:https://members.kearneycoc.org/events/details/lazy-wayne-band-live-at-jd-s-17857
END:VEVENT

END:VCALENDAR
