BEGIN:VCALENDAR
VERSION:2.0
PRODID:-//ChamberMaster//Event Calendar 2.0//EN
METHOD:PUBLISH
X-PUBLISHED-TTL:P3D
REFRESH-INTERVAL:P3D
CALSCALE:GREGORIAN
BEGIN:VEVENT
DTSTART:20190915T030000Z
DTEND:20190915T060000Z
X-MICROSOFT-CDO-ALLDAYEVENT:FALSE
SUMMARY:Lazy Wayne Band LIVE at JD's
DESCRIPTION:First time on the JD's stage! Come on out and jam out to some classic rock from Iron Zephyr!
X-ALT-DESC;FMTTYPE=text/html:First time on the JD&#39\;s stage! Come on out and jam out to some classic rock from Iron Zephyr!
LOCATION:JD's 2023 1st Ave.
UID:e.1404.17885
SEQUENCE:3
DTSTAMP:20260425T180843Z
URL:https://members.kearneycoc.org/events/details/lazy-wayne-band-live-at-jd-s-17885
END:VEVENT

END:VCALENDAR
