BEGIN:VCALENDAR
VERSION:2.0
PRODID:-//ChamberMaster//Event Calendar 2.0//EN
METHOD:PUBLISH
X-PUBLISHED-TTL:P3D
REFRESH-INTERVAL:P3D
CALSCALE:GREGORIAN
BEGIN:VEVENT
DTSTART:20130510T124500Z
DTEND:20130510T203000Z
X-MICROSOFT-CDO-ALLDAYEVENT:FALSE
SUMMARY:Leadercast
DESCRIPTION:One day.  120\,000 Leaders. One Mission. Infinite impact. Join us on May 10th for the 2013 Chick-fil-a Leadercast broadcast live from Atlanta\, Georgia to the Minden Opera House. You will learn from the world's most influential leaders\, including:\n\n	  Jack Welch\, Former Chairman and CEO of General Electric\n\n	  Andy Stanley\, Best-selling leadership author and communicator\n\n	  Mike Krzyzewski\, Head men's basketball coach\, Duke University and Team USA\n\n	  John Maxwell\, Best-selling author and leadership expert\n\n	  Dr. Henry Cloud\, Best-selling author and leadership consultant\n\n	  LCDR Rorke Denver\, Navy SEAL and star of the 2012 movie Act of Valor\n\n	  Sanya Richards-Ross\, 2012 London Olympic gold medalist\, track & field\n\n	  David Allen\, Best-selling author of Getting Things Done and productivity expert\n\n	  Condolezza Rice\, Secretary of State (2005-2009) \, via exclusive Simply Lead video interview
X-ALT-DESC;FMTTYPE=text/html:<span style="color: rgb(73\, 103\, 53)\; font-family: Arial\;">One day.</span><span style="color: rgb(73\, 103\, 53)\; font-family: Arial\;">&nbsp\; </span><span style="color: rgb(73\, 103\, 53)\; font-family: Arial\;">120\,000 Leaders. One Mission. Infinite impact. Join us on May 10th for the 2013 Chick-fil-a Leadercast broadcast live from Atlanta\, Georgia to the Minden Opera House. You will learn from the world&rsquo\;s most influential leaders\, including:</span>\n<p class="MsoNormal" style="mso-pagination:none\;margin-left:54.0pt\;text-indent:\n-18.0pt\;margin-bottom:3.0pt\;line-height:75%\;mso-level-number-format:bullet\;\nmso-level-text:·\;mso-level-size:10.0pt\;mso-level-font-family:Symbol">\n	<span style="direction:ltr\;unicode-bidi:embed\;font-family:Symbol\;font-size:10.0pt\;\nlanguage:x-none\;color:#496735">&middot\;</span><span style="width:13.8pt">&nbsp\;</span><span lang="en-US" style="font-size:8.0pt\;line-height:75%\;font-family:Cambria\;\nmso-default-font-family:Cambria\;mso-ascii-font-family:Cambria\;mso-latin-font-family:\nCambria\;mso-greek-font-family:Cambria\;mso-cyrillic-font-family:Cambria\;\nmso-armenian-font-family:Cambria\;mso-hebrew-font-family:Cambria\;mso-currency-font-family:\nCambria\;mso-latinext-font-family:Cambria\;color:#496735\;mso-color-ext:3499849\;\nmso-color-extcmy:1721467368\;mso-color-extk:287\;font-weight:bold\;language:en-US\;\nmso-ansi-language:en-US">Jack Welch\, </span><span lang="en-US" style="font-size:\n8.0pt\;line-height:75%\;font-family:Cambria\;mso-default-font-family:Cambria\;\nmso-ascii-font-family:Cambria\;mso-latin-font-family:Cambria\;mso-greek-font-family:\nCambria\;mso-cyrillic-font-family:Cambria\;mso-armenian-font-family:Cambria\;\nmso-hebrew-font-family:Cambria\;mso-currency-font-family:Cambria\;mso-latinext-font-family:\nCambria\;color:#496735\;mso-color-ext:3499849\;mso-color-extcmy:1721467368\;\nmso-color-extk:287\;language:en-US\;mso-ansi-language:en-US">Former Chairman and CEO of General Electric</span><span lang="en-US" style="font-size:8.0pt\;line-height:75%\;font-family:Arial\;mso-default-font-family:\nArial\;mso-ascii-font-family:Arial\;mso-latin-font-family:Arial\;mso-greek-font-family:\nArial\;mso-cyrillic-font-family:Arial\;mso-armenian-font-family:Arial\;mso-hebrew-font-family:\nArial\;mso-arabic-font-family:Arial\;mso-currency-font-family:Arial\;mso-latinext-font-family:\nArial\;color:#496735\;mso-color-ext:3499849\;mso-color-extcmy:1721467368\;\nmso-color-extk:287\;language:en-US"><o:p></o:p></span></p>\n<p class="MsoNormal" style="mso-pagination:none\;margin-left:54.0pt\;text-indent:\n-18.0pt\;margin-bottom:3.0pt\;line-height:75%\;mso-level-number-format:bullet\;\nmso-level-text:·\;mso-level-size:10.0pt\;mso-level-font-family:Symbol">\n	<span style="direction:ltr\;unicode-bidi:embed\;font-family:Symbol\;font-size:10.0pt\;\nlanguage:x-none\;color:#496735">&middot\;</span><span style="width:13.8pt">&nbsp\;</span><span lang="en-US" style="font-size:8.0pt\;line-height:75%\;font-family:Cambria\;\nmso-default-font-family:Cambria\;mso-ascii-font-family:Cambria\;mso-latin-font-family:\nCambria\;mso-greek-font-family:Cambria\;mso-cyrillic-font-family:Cambria\;\nmso-armenian-font-family:Cambria\;mso-hebrew-font-family:Cambria\;mso-currency-font-family:\nCambria\;mso-latinext-font-family:Cambria\;color:#496735\;mso-color-ext:3499849\;\nmso-color-extcmy:1721467368\;mso-color-extk:287\;font-weight:bold\;language:en-US\;\nmso-ansi-language:en-US">Andy Stanley\, </span><span lang="en-US" style="font-size:8.0pt\;line-height:75%\;font-family:Cambria\;mso-default-font-family:\nCambria\;mso-ascii-font-family:Cambria\;mso-latin-font-family:Cambria\;mso-greek-font-family:\nCambria\;mso-cyrillic-font-family:Cambria\;mso-armenian-font-family:Cambria\;\nmso-hebrew-font-family:Cambria\;mso-currency-font-family:Cambria\;mso-latinext-font-family:\nCambria\;color:#496735\;mso-color-ext:3499849\;mso-color-extcmy:1721467368\;\nmso-color-extk:287\;language:en-US\;mso-ansi-language:en-US">Best-selling leadership author and communicator</span><span lang="en-US" style="font-size:8.0pt\;line-height:75%\;font-family:Arial\;mso-default-font-family:\nArial\;mso-ascii-font-family:Arial\;mso-latin-font-family:Arial\;mso-greek-font-family:\nArial\;mso-cyrillic-font-family:Arial\;mso-armenian-font-family:Arial\;mso-hebrew-font-family:\nArial\;mso-arabic-font-family:Arial\;mso-currency-font-family:Arial\;mso-latinext-font-family:\nArial\;color:#496735\;mso-color-ext:3499849\;mso-color-extcmy:1721467368\;\nmso-color-extk:287\;language:en-US"><o:p></o:p></span></p>\n<p class="MsoNormal" style="mso-pagination:none\;margin-left:54.0pt\;text-indent:\n-18.0pt\;margin-bottom:3.0pt\;line-height:75%\;mso-level-number-format:bullet\;\nmso-level-text:·\;mso-level-size:10.0pt\;mso-level-font-family:Symbol">\n	<span style="direction:ltr\;unicode-bidi:embed\;font-family:Symbol\;font-size:10.0pt\;\nlanguage:x-none\;color:#496735">&middot\;</span><span style="width:13.8pt">&nbsp\;</span><span lang="en-US" style="font-size:8.0pt\;line-height:75%\;font-family:Cambria\;\nmso-default-font-family:Cambria\;mso-ascii-font-family:Cambria\;mso-latin-font-family:\nCambria\;mso-greek-font-family:Cambria\;mso-cyrillic-font-family:Cambria\;\nmso-armenian-font-family:Cambria\;mso-hebrew-font-family:Cambria\;mso-currency-font-family:\nCambria\;mso-latinext-font-family:Cambria\;color:#496735\;mso-color-ext:3499849\;\nmso-color-extcmy:1721467368\;mso-color-extk:287\;font-weight:bold\;language:en-US\;\nmso-ansi-language:en-US">Mike Krzyzewski\, </span><span lang="en-US" style="font-size:8.0pt\;line-height:75%\;font-family:Cambria\;mso-default-font-family:\nCambria\;mso-ascii-font-family:Cambria\;mso-latin-font-family:Cambria\;mso-greek-font-family:\nCambria\;mso-cyrillic-font-family:Cambria\;mso-armenian-font-family:Cambria\;\nmso-hebrew-font-family:Cambria\;mso-currency-font-family:Cambria\;mso-latinext-font-family:\nCambria\;color:#496735\;mso-color-ext:3499849\;mso-color-extcmy:1721467368\;\nmso-color-extk:287\;language:en-US\;mso-ansi-language:en-US">Head men&rsquo\;s basketball coach\, Duke University and Team USA</span><span lang="en-US" style="font-size:8.0pt\;line-height:75%\;font-family:Arial\;mso-default-font-family:\nArial\;mso-ascii-font-family:Arial\;mso-latin-font-family:Arial\;mso-greek-font-family:\nArial\;mso-cyrillic-font-family:Arial\;mso-armenian-font-family:Arial\;mso-hebrew-font-family:\nArial\;mso-arabic-font-family:Arial\;mso-currency-font-family:Arial\;mso-latinext-font-family:\nArial\;color:#496735\;mso-color-ext:3499849\;mso-color-extcmy:1721467368\;\nmso-color-extk:287\;language:en-US"><o:p></o:p></span></p>\n<p class="MsoNormal" style="mso-pagination:none\;margin-left:54.0pt\;text-indent:\n-18.0pt\;margin-bottom:3.0pt\;line-height:75%\;mso-level-number-format:bullet\;\nmso-level-text:·\;mso-level-size:10.0pt\;mso-level-font-family:Symbol">\n	<span style="direction:ltr\;unicode-bidi:embed\;font-family:Symbol\;font-size:10.0pt\;\nlanguage:x-none\;color:#496735">&middot\;</span><span style="width:13.8pt">&nbsp\;</span><span lang="en-US" style="font-size:8.0pt\;line-height:75%\;font-family:Cambria\;\nmso-default-font-family:Cambria\;mso-ascii-font-family:Cambria\;mso-latin-font-family:\nCambria\;mso-greek-font-family:Cambria\;mso-cyrillic-font-family:Cambria\;\nmso-armenian-font-family:Cambria\;mso-hebrew-font-family:Cambria\;mso-currency-font-family:\nCambria\;mso-latinext-font-family:Cambria\;color:#496735\;mso-color-ext:3499849\;\nmso-color-extcmy:1721467368\;mso-color-extk:287\;font-weight:bold\;language:en-US\;\nmso-ansi-language:en-US">John Maxwell\, </span><span lang="en-US" style="font-size:8.0pt\;line-height:75%\;font-family:Cambria\;mso-default-font-family:\nCambria\;mso-ascii-font-family:Cambria\;mso-latin-font-family:Cambria\;mso-greek-font-family:\nCambria\;mso-cyrillic-font-family:Cambria\;mso-armenian-font-family:Cambria\;\nmso-hebrew-font-family:Cambria\;mso-currency-font-family:Cambria\;mso-latinext-font-family:\nCambria\;color:#496735\;mso-color-ext:3499849\;mso-color-extcmy:1721467368\;\nmso-color-extk:287\;language:en-US\;mso-ansi-language:en-US">Best-selling author and leadership expert</span><span lang="en-US" style="font-size:8.0pt\;line-height:75%\;font-family:Arial\;mso-default-font-family:\nArial\;mso-ascii-font-family:Arial\;mso-latin-font-family:Arial\;mso-greek-font-family:\nArial\;mso-cyrillic-font-family:Arial\;mso-armenian-font-family:Arial\;mso-hebrew-font-family:\nArial\;mso-arabic-font-family:Arial\;mso-currency-font-family:Arial\;mso-latinext-font-family:\nArial\;color:#496735\;mso-color-ext:3499849\;mso-color-extcmy:1721467368\;\nmso-color-extk:287\;language:en-US"><o:p></o:p></span></p>\n<p class="MsoNormal" style="mso-pagination:none\;margin-left:54.0pt\;text-indent:\n-18.0pt\;margin-bottom:3.0pt\;line-height:75%\;mso-level-number-format:bullet\;\nmso-level-text:·\;mso-level-size:10.0pt\;mso-level-font-family:Symbol">\n	<span style="direction:ltr\;unicode-bidi:embed\;font-family:Symbol\;font-size:10.0pt\;\nlanguage:x-none\;color:#496735">&middot\;</span><span style="width:13.8pt">&nbsp\;</span><span lang="en-US" style="font-size:8.0pt\;line-height:75%\;font-family:Cambria\;\nmso-default-font-family:Cambria\;mso-ascii-font-family:Cambria\;mso-latin-font-family:\nCambria\;mso-greek-font-family:Cambria\;mso-cyrillic-font-family:Cambria\;\nmso-armenian-font-family:Cambria\;mso-hebrew-font-family:Cambria\;mso-currency-font-family:\nCambria\;mso-latinext-font-family:Cambria\;color:#496735\;mso-color-ext:3499849\;\nmso-color-extcmy:1721467368\;mso-color-extk:287\;font-weight:bold\;language:en-US\;\nmso-ansi-language:en-US">Dr. Henry Cloud\, </span><span lang="en-US" style="font-size:8.0pt\;line-height:75%\;font-family:Cambria\;mso-default-font-family:\nCambria\;mso-ascii-font-family:Cambria\;mso-latin-font-family:Cambria\;mso-greek-font-family:\nCambria\;mso-cyrillic-font-family:Cambria\;mso-armenian-font-family:Cambria\;\nmso-hebrew-font-family:Cambria\;mso-currency-font-family:Cambria\;mso-latinext-font-family:\nCambria\;color:#496735\;mso-color-ext:3499849\;mso-color-extcmy:1721467368\;\nmso-color-extk:287\;language:en-US\;mso-ansi-language:en-US">Best-selling author and leadership consultant</span><span lang="en-US" style="font-size:8.0pt\;line-height:75%\;font-family:Arial\;mso-default-font-family:\nArial\;mso-ascii-font-family:Arial\;mso-latin-font-family:Arial\;mso-greek-font-family:\nArial\;mso-cyrillic-font-family:Arial\;mso-armenian-font-family:Arial\;mso-hebrew-font-family:\nArial\;mso-arabic-font-family:Arial\;mso-currency-font-family:Arial\;mso-latinext-font-family:\nArial\;color:#496735\;mso-color-ext:3499849\;mso-color-extcmy:1721467368\;\nmso-color-extk:287\;language:en-US"><o:p></o:p></span></p>\n<p class="MsoNormal" style="mso-pagination:none\;margin-left:54.0pt\;text-indent:\n-18.0pt\;margin-bottom:3.0pt\;line-height:75%\;mso-level-number-format:bullet\;\nmso-level-text:·\;mso-level-size:10.0pt\;mso-level-font-family:Symbol">\n	<span style="direction:ltr\;unicode-bidi:embed\;font-family:Symbol\;font-size:10.0pt\;\nlanguage:x-none\;color:#496735">&middot\;</span><span style="width:13.8pt">&nbsp\;</span><span lang="en-US" style="font-size:8.0pt\;line-height:75%\;font-family:Cambria\;\nmso-default-font-family:Cambria\;mso-ascii-font-family:Cambria\;mso-latin-font-family:\nCambria\;mso-greek-font-family:Cambria\;mso-cyrillic-font-family:Cambria\;\nmso-armenian-font-family:Cambria\;mso-hebrew-font-family:Cambria\;mso-currency-font-family:\nCambria\;mso-latinext-font-family:Cambria\;color:#496735\;mso-color-ext:3499849\;\nmso-color-extcmy:1721467368\;mso-color-extk:287\;font-weight:bold\;language:en-US\;\nmso-ansi-language:en-US">LCDR Rorke Denver\,</span><span lang="en-US" style="font-size:8.0pt\;line-height:75%\;font-family:Cambria\;mso-default-font-family:\nCambria\;mso-ascii-font-family:Cambria\;mso-latin-font-family:Cambria\;mso-greek-font-family:\nCambria\;mso-cyrillic-font-family:Cambria\;mso-armenian-font-family:Cambria\;\nmso-hebrew-font-family:Cambria\;mso-currency-font-family:Cambria\;mso-latinext-font-family:\nCambria\;color:#496735\;mso-color-ext:3499849\;mso-color-extcmy:1721467368\;\nmso-color-extk:287\;language:en-US\;mso-ansi-language:en-US"> Navy SEAL and star of the 2012 movie </span><span lang="en-US" style="font-size:8.0pt\;line-height:75%\;font-family:Cambria\;\nmso-default-font-family:Cambria\;mso-ascii-font-family:Cambria\;mso-latin-font-family:\nCambria\;mso-greek-font-family:Cambria\;mso-cyrillic-font-family:Cambria\;\nmso-armenian-font-family:Cambria\;mso-hebrew-font-family:Cambria\;mso-currency-font-family:\nCambria\;mso-latinext-font-family:Cambria\;color:#496735\;mso-color-ext:3499849\;\nmso-color-extcmy:1721467368\;mso-color-extk:287\;font-style:italic\;language:en-US\;\nmso-ansi-language:en-US">Act of Valor</span><span lang="en-US" style="font-size:\n8.0pt\;line-height:75%\;font-family:Arial\;mso-default-font-family:Arial\;\nmso-ascii-font-family:Arial\;mso-latin-font-family:Arial\;mso-greek-font-family:\nArial\;mso-cyrillic-font-family:Arial\;mso-armenian-font-family:Arial\;mso-hebrew-font-family:\nArial\;mso-arabic-font-family:Arial\;mso-currency-font-family:Arial\;mso-latinext-font-family:\nArial\;color:#496735\;mso-color-ext:3499849\;mso-color-extcmy:1721467368\;\nmso-color-extk:287\;language:en-US"><o:p></o:p></span></p>\n<p class="MsoNormal" style="mso-pagination:none\;margin-left:54.0pt\;text-indent:\n-18.0pt\;margin-bottom:3.0pt\;line-height:75%\;mso-level-number-format:bullet\;\nmso-level-text:·\;mso-level-size:10.0pt\;mso-level-font-family:Symbol">\n	<span style="direction:ltr\;unicode-bidi:embed\;font-family:Symbol\;font-size:10.0pt\;\nlanguage:x-none\;color:#496735">&middot\;</span><span style="width:13.8pt">&nbsp\;</span><span lang="en-US" style="font-size:8.0pt\;line-height:75%\;font-family:Cambria\;\nmso-default-font-family:Cambria\;mso-ascii-font-family:Cambria\;mso-latin-font-family:\nCambria\;mso-greek-font-family:Cambria\;mso-cyrillic-font-family:Cambria\;\nmso-armenian-font-family:Cambria\;mso-hebrew-font-family:Cambria\;mso-currency-font-family:\nCambria\;mso-latinext-font-family:Cambria\;color:#496735\;mso-color-ext:3499849\;\nmso-color-extcmy:1721467368\;mso-color-extk:287\;font-weight:bold\;language:en-US\;\nmso-ansi-language:en-US">Sanya Richards-Ross\, </span><span lang="en-US" style="font-size:8.0pt\;line-height:75%\;font-family:Cambria\;mso-default-font-family:\nCambria\;mso-ascii-font-family:Cambria\;mso-latin-font-family:Cambria\;mso-greek-font-family:\nCambria\;mso-cyrillic-font-family:Cambria\;mso-armenian-font-family:Cambria\;\nmso-hebrew-font-family:Cambria\;mso-currency-font-family:Cambria\;mso-latinext-font-family:\nCambria\;color:#496735\;mso-color-ext:3499849\;mso-color-extcmy:1721467368\;\nmso-color-extk:287\;language:en-US\;mso-ansi-language:en-US">2012 London Olympic gold medalist\, track &amp\; field</span><span lang="en-US" style="font-size:8.0pt\;line-height:75%\;font-family:Arial\;mso-default-font-family:\nArial\;mso-ascii-font-family:Arial\;mso-latin-font-family:Arial\;mso-greek-font-family:\nArial\;mso-cyrillic-font-family:Arial\;mso-armenian-font-family:Arial\;mso-hebrew-font-family:\nArial\;mso-arabic-font-family:Arial\;mso-currency-font-family:Arial\;mso-latinext-font-family:\nArial\;color:#496735\;mso-color-ext:3499849\;mso-color-extcmy:1721467368\;\nmso-color-extk:287\;language:en-US"><o:p></o:p></span></p>\n<p class="MsoNormal" style="mso-pagination:none\;margin-left:54.0pt\;text-indent:\n-18.0pt\;margin-bottom:3.0pt\;line-height:75%\;mso-level-number-format:bullet\;\nmso-level-text:·\;mso-level-size:10.0pt\;mso-level-font-family:Symbol">\n	<span style="direction:ltr\;unicode-bidi:embed\;font-family:Symbol\;font-size:10.0pt\;\nlanguage:x-none\;color:#496735">&middot\;</span><span style="width:13.8pt">&nbsp\;</span><span lang="en-US" style="font-size:8.0pt\;line-height:75%\;font-family:Cambria\;\nmso-default-font-family:Cambria\;mso-ascii-font-family:Cambria\;mso-latin-font-family:\nCambria\;mso-greek-font-family:Cambria\;mso-cyrillic-font-family:Cambria\;\nmso-armenian-font-family:Cambria\;mso-hebrew-font-family:Cambria\;mso-currency-font-family:\nCambria\;mso-latinext-font-family:Cambria\;color:#496735\;mso-color-ext:3499849\;\nmso-color-extcmy:1721467368\;mso-color-extk:287\;font-weight:bold\;language:en-US\;\nmso-ansi-language:en-US">David Allen\, </span><span lang="en-US" style="font-size:\n8.0pt\;line-height:75%\;font-family:Cambria\;mso-default-font-family:Cambria\;\nmso-ascii-font-family:Cambria\;mso-latin-font-family:Cambria\;mso-greek-font-family:\nCambria\;mso-cyrillic-font-family:Cambria\;mso-armenian-font-family:Cambria\;\nmso-hebrew-font-family:Cambria\;mso-currency-font-family:Cambria\;mso-latinext-font-family:\nCambria\;color:#496735\;mso-color-ext:3499849\;mso-color-extcmy:1721467368\;\nmso-color-extk:287\;language:en-US\;mso-ansi-language:en-US">Best-selling author of </span><span lang="en-US" style="font-size:8.0pt\;line-height:75%\;font-family:Cambria\;\nmso-default-font-family:Cambria\;mso-ascii-font-family:Cambria\;mso-latin-font-family:\nCambria\;mso-greek-font-family:Cambria\;mso-cyrillic-font-family:Cambria\;\nmso-armenian-font-family:Cambria\;mso-hebrew-font-family:Cambria\;mso-currency-font-family:\nCambria\;mso-latinext-font-family:Cambria\;color:#496735\;mso-color-ext:3499849\;\nmso-color-extcmy:1721467368\;mso-color-extk:287\;font-style:italic\;language:en-US\;\nmso-ansi-language:en-US">Getting Things Done</span><span lang="en-US" style="font-size:8.0pt\;line-height:75%\;font-family:Cambria\;mso-default-font-family:\nCambria\;mso-ascii-font-family:Cambria\;mso-latin-font-family:Cambria\;mso-greek-font-family:\nCambria\;mso-cyrillic-font-family:Cambria\;mso-armenian-font-family:Cambria\;\nmso-hebrew-font-family:Cambria\;mso-currency-font-family:Cambria\;mso-latinext-font-family:\nCambria\;color:#496735\;mso-color-ext:3499849\;mso-color-extcmy:1721467368\;\nmso-color-extk:287\;language:en-US\;mso-ansi-language:en-US"> and productivity expert</span><span lang="en-US" style="font-size:8.0pt\;line-height:75%\;font-family:Arial\;mso-default-font-family:\nArial\;mso-ascii-font-family:Arial\;mso-latin-font-family:Arial\;mso-greek-font-family:\nArial\;mso-cyrillic-font-family:Arial\;mso-armenian-font-family:Arial\;mso-hebrew-font-family:\nArial\;mso-arabic-font-family:Arial\;mso-currency-font-family:Arial\;mso-latinext-font-family:\nArial\;color:#496735\;mso-color-ext:3499849\;mso-color-extcmy:1721467368\;\nmso-color-extk:287\;language:en-US"><o:p></o:p></span></p>\n<p class="MsoNormal" style="mso-pagination:none\;margin-left:54.0pt\;text-indent:\n-18.0pt\;margin-bottom:3.0pt\;line-height:75%\;mso-level-number-format:bullet\;\nmso-level-text:·\;mso-level-size:10.0pt\;mso-level-font-family:Symbol">\n	<span style="direction:ltr\;unicode-bidi:embed\;font-family:Symbol\;font-size:10.0pt\;\nlanguage:x-none\;color:#496735">&middot\;</span><span style="width:13.8pt">&nbsp\;</span><span lang="en-US" style="font-size:8.0pt\;line-height:75%\;font-family:Cambria\;\nmso-default-font-family:Cambria\;mso-ascii-font-family:Cambria\;mso-latin-font-family:\nCambria\;mso-greek-font-family:Cambria\;mso-cyrillic-font-family:Cambria\;\nmso-armenian-font-family:Cambria\;mso-hebrew-font-family:Cambria\;mso-currency-font-family:\nCambria\;mso-latinext-font-family:Cambria\;color:#496735\;mso-color-ext:3499849\;\nmso-color-extcmy:1721467368\;mso-color-extk:287\;font-weight:bold\;language:en-US\;\nmso-ansi-language:en-US">Condolezza Rice\, </span><span lang="en-US" style="font-size:8.0pt\;line-height:75%\;font-family:Cambria\;mso-default-font-family:\nCambria\;mso-ascii-font-family:Cambria\;mso-latin-font-family:Cambria\;mso-greek-font-family:\nCambria\;mso-cyrillic-font-family:Cambria\;mso-armenian-font-family:Cambria\;\nmso-hebrew-font-family:Cambria\;mso-currency-font-family:Cambria\;mso-latinext-font-family:\nCambria\;color:#496735\;mso-color-ext:3499849\;mso-color-extcmy:1721467368\;\nmso-color-extk:287\;language:en-US\;mso-ansi-language:en-US">Secretary of State (2005-2009) \, </span><span lang="en-US" style="font-size:8.0pt\;line-height:75%\;font-family:Cambria\;\nmso-default-font-family:Cambria\;mso-ascii-font-family:Cambria\;mso-latin-font-family:\nCambria\;mso-greek-font-family:Cambria\;mso-cyrillic-font-family:Cambria\;\nmso-armenian-font-family:Cambria\;mso-hebrew-font-family:Cambria\;mso-currency-font-family:\nCambria\;mso-latinext-font-family:Cambria\;color:#496735\;mso-color-ext:3499849\;\nmso-color-extcmy:1721467368\;mso-color-extk:287\;font-style:italic\;language:en-US\;\nmso-ansi-language:en-US">via exclusive Simply Lead video interview</span><span lang="en-US" style="font-size:8.0pt\;line-height:75%\;font-family:Arial\;mso-default-font-family:\nArial\;mso-ascii-font-family:Arial\;mso-latin-font-family:Arial\;mso-greek-font-family:\nArial\;mso-cyrillic-font-family:Arial\;mso-armenian-font-family:Arial\;mso-hebrew-font-family:\nArial\;mso-arabic-font-family:Arial\;mso-currency-font-family:Arial\;mso-latinext-font-family:\nArial\;color:#496735\;mso-color-ext:3499849\;mso-color-extcmy:1721467368\;\nmso-color-extk:287\;language:en-US"><o:p></o:p></span></p>\n<p class="MsoNormal">\n	<span lang="en-US">&nbsp\;<o:p></o:p></span></p>\n
LOCATION:Minden Opera House
UID:e.1404.3172
SEQUENCE:3
DTSTAMP:20260424T122027Z
URL:https://members.kearneycoc.org/events/details/leadercast-05-10-2013-3172
END:VEVENT

END:VCALENDAR
