BEGIN:VCALENDAR
VERSION:2.0
PRODID:-//ChamberMaster//Event Calendar 2.0//EN
METHOD:PUBLISH
X-PUBLISHED-TTL:P3D
REFRESH-INTERVAL:P3D
CALSCALE:GREGORIAN
BEGIN:VEVENT
DTSTART:20211104T220000Z
DTEND:20211105T020000Z
X-MICROSOFT-CDO-ALLDAYEVENT:FALSE
SUMMARY:Leadership Kearney 30 Anniversary Alumni Event
DESCRIPTION:Please join all Leadership Kearney Alumni for a 30th Anniversary celebration! There will be drinks\, food and trivia!
X-ALT-DESC;FMTTYPE=text/html:Please join all Leadership Kearney Alumni for a 30th Anniversary celebration! There will be drinks\, food and trivia!
LOCATION:The Village\, 1920 A Avenue\, Kearney Ne 68847
UID:e.1404.19428
SEQUENCE:3
DTSTAMP:20260423T231150Z
URL:https://members.kearneycoc.org/events/details/leadership-kearney-30-anniversary-alumni-event-19428
END:VEVENT

END:VCALENDAR
