BEGIN:VCALENDAR
VERSION:2.0
PRODID:-//ChamberMaster//Event Calendar 2.0//EN
METHOD:PUBLISH
X-PUBLISHED-TTL:P3D
REFRESH-INTERVAL:P3D
CALSCALE:GREGORIAN
BEGIN:VEVENT
DTSTART:20160923T160000Z
DTEND:20160923T230000Z
X-MICROSOFT-CDO-ALLDAYEVENT:FALSE
SUMMARY:Leadership Kearney Alumni Golf Tournament
DESCRIPTION:
X-ALT-DESC;FMTTYPE=text/html:
LOCATION:Kearney Country Club 2800 19th Ave Kearney NE
UID:e.1404.9006
SEQUENCE:3
DTSTAMP:20260421T153313Z
URL:https://members.kearneycoc.org/events/details/leadership-kearney-alumni-golf-tournament-9006
END:VEVENT

END:VCALENDAR
