BEGIN:VCALENDAR
VERSION:2.0
PRODID:-//ChamberMaster//Event Calendar 2.0//EN
METHOD:PUBLISH
X-PUBLISHED-TTL:P3D
REFRESH-INTERVAL:P3D
CALSCALE:GREGORIAN
BEGIN:VEVENT
DTSTART:20200228T180000Z
DTEND:20200229T000000Z
X-MICROSOFT-CDO-ALLDAYEVENT:FALSE
SUMMARY:Leadership Kearney Blood Drive
DESCRIPTION:Leadership Kearney will be hosting a Blood Drive on February 28th from 12:00 - 6:00 PM at the American Red Cross Facility. Schedule your donation today! https://www.redcrossblood.org/give.html/find-drive
X-ALT-DESC;FMTTYPE=text/html:Leadership Kearney will be hosting a Blood Drive on February 28th from 12:00 - 6:00 PM at the American Red Cross Facility. Schedule your donation today!&nbsp\;<a href="https://www.redcrossblood.org/give.html/find-drive">https://www.redcrossblood.org/give.html/find-drive</a>
LOCATION:American Red Cross 520 W. 48th St. Kearney\, NE 68845
UID:e.1404.18332
SEQUENCE:3
DTSTAMP:20260425T113353Z
URL:https://members.kearneycoc.org/events/details/leadership-kearney-blood-drive-18332
END:VEVENT

END:VCALENDAR
