BEGIN:VCALENDAR
VERSION:2.0
PRODID:-//ChamberMaster//Event Calendar 2.0//EN
METHOD:PUBLISH
X-PUBLISHED-TTL:P3D
REFRESH-INTERVAL:P3D
CALSCALE:GREGORIAN
BEGIN:VEVENT
DTSTART;VALUE=DATE:20140214
DTEND;VALUE=DATE:20140215
TRANSP:TRANSPARENT
X-MICROSOFT-CDO-ALLDAYEVENT:TRUE
SUMMARY:Leadership Kearney Blood Drive at YMCA
DESCRIPTION:Leadership Kearney Annual Blood Drive \n\n	\n		Last month\, about 770 American Red Cross blood drives were canceled\, resulting in more than 25\,000 uncollected blood and platelet donations. February is an important time for the Red Cross to restock the shelves so patient needs can continue to be met. \n\n		          After severe winter weather caused hundreds of blood drive cancellations last month\, the Red Cross needs donors of all types to help restock the shelves\, especially those with type O negative\, O positive\, A negative or B negative blood.\n	\n		 \n	\n		          Seasonal illnesses like the flu can affect blood drive this time of year. Healthy donors are needed to ensure blood and platelets are available for patients in need. More information\, including flu prevention tips\, can be found online at redcrossblood.org/flu. \n	\n		 \n	\n		\n			Donated blood can be used to treat cancer patients\, trauma victims\, organ transplant recipients\, premature babies with complications\, sickle cell disease patients and others.\n	\n	\n		 \n	\n		\n			Can I schedule an appointment for you to donate blood? Your donation could help save up to three lives in our community or across the country.
X-ALT-DESC;FMTTYPE=text/html:<div style="text-align: center">\n	<strong><u><span style="font-size: 16px">Leadership Kearney Annual Blood Drive </span></u></strong><br />\n	<p class="MsoNormal" style="margin: 0in 0in 0pt\; tab-stops: list 0in">\n		<strong><span style="font-family: 'Georgia'\, 'serif'\; font-size: 11pt\; mso-bidi-font-family: Arial"><font color="#000000">Last month\, about 770<span style="mso-bidi-font-weight: bold"> American Red Cross blood drives were canceled\, resulting in more than 25\,000 uncollected blood and platelet donations. February is an important time for the Red Cross to restock the shelves so patient needs can continue to be met. </span></font></span><br />\n		<font color="#000000"><span style="font-family: Symbol\; font-size: 10pt\; mso-bidi-font-family: Symbol\; mso-fareast-font-family: Symbol\; mso-bidi-font-size: 11.0pt"><span style="mso-list: Ignore">&middot\;<span style="font: 7pt 'Times New Roman'">&nbsp\;&nbsp\;&nbsp\;&nbsp\;&nbsp\;&nbsp\;&nbsp\;&nbsp\; </span></span></span><span style="font-family: 'Georgia'\, 'serif'\; mso-bidi-font-family: Arial"><font size="3">After severe winter weather caused hundreds of blood drive cancellations last month\, the Red Cross needs donors of all types to help restock the shelves\, especially those with type O negative\, O positive\, A negative or B negative blood.<o:p></o:p></font></span></font></strong></p>\n	<p class="MsoListParagraph" style="margin: 0in 0in 0pt 0.5in">\n		<strong><span style="font-family: 'Georgia'\, 'serif'\; mso-bidi-font-family: Arial"><o:p><font color="#000000" size="3">&nbsp\;</font></o:p></span></strong></p>\n	<p class="MsoListParagraph" style="text-indent: -0.25in\; margin: 0in 0in 0pt 0.5in\; mso-list: l0 level1 lfo1">\n		<strong><font color="#000000"><span style="font-family: Symbol\; font-size: 10pt\; mso-bidi-font-family: Symbol\; mso-fareast-font-family: Symbol\; mso-bidi-font-size: 11.0pt"><span style="mso-list: Ignore">&middot\;<span style="font: 7pt 'Times New Roman'">&nbsp\;&nbsp\;&nbsp\;&nbsp\;&nbsp\;&nbsp\;&nbsp\;&nbsp\; </span></span></span><font size="3"><span>Seasonal illnesses like the flu can affect blood drive this time of year. Healthy donors are needed to ensure blood and platelets are available for patients in need. More information\, including flu prevention tips\, can be found online at redcrossblood.org/flu. </span><span style="font-family: 'Georgia'\, 'serif'\; mso-bidi-font-family: Arial"><o:p></o:p></span></font></font></strong></p>\n	<p class="MsoNormal" style="margin: 0in 0in 0pt">\n		<strong><span style="font-family: 'Georgia'\, 'serif'\; font-size: 11pt\; mso-bidi-font-family: Arial"><o:p><font color="#000000">&nbsp\;</font></o:p></span></strong></p>\n	<ul style="margin-top: 0in" type="disc">\n		<li class="MsoNormal" style="margin: 0in 0in 0pt\; mso-list: l0 level1 lfo1">\n			<strong><span style="font-family: 'Georgia'\, 'serif'\; font-size: 11pt\; mso-bidi-font-family: Arial"><font color="#000000">Donated blood can be used to<span style="color: black"> treat cancer patients\, trauma victims\, organ transplant recipients\, premature babies with complications\, sickle cell disease patients and others.</span></font><o:p></o:p></span></strong></li>\n	</ul>\n	<p class="MsoNormal" style="margin: 0in 0in 0pt">\n		<strong><span style="font-family: 'Georgia'\, 'serif'\; color: black\; font-size: 11pt\; mso-bidi-font-family: Arial"><o:p>&nbsp\;</o:p></span></strong></p>\n	<ul style="margin-top: 0in" type="disc">\n		<li class="MsoNormal" style="margin: 0in 0in 0pt\; color: black\; mso-list: l0 level1 lfo1">\n			<strong><span style="font-family: 'Georgia'\, 'serif'\; font-size: 11pt\; mso-bidi-font-family: Arial">Can I schedule an appointment for you to donate blood? Your donation could help save up to three lives in our community or across the country.<o:p></o:p></span></strong></li>\n	</ul>\n</div>\n
LOCATION:Kearney Family YMCA
UID:e.1404.4504
SEQUENCE:3
DTSTAMP:20260423T181242Z
URL:https://members.kearneycoc.org/events/details/leadership-kearney-blood-drive-at-ymca-02-14-2014-4504
END:VEVENT

END:VCALENDAR
