BEGIN:VCALENDAR
VERSION:2.0
PRODID:-//ChamberMaster//Event Calendar 2.0//EN
METHOD:PUBLISH
X-PUBLISHED-TTL:P3D
REFRESH-INTERVAL:P3D
CALSCALE:GREGORIAN
BEGIN:VEVENT
DTSTART:20130913T163000Z
DTEND:20130913T230000Z
X-MICROSOFT-CDO-ALLDAYEVENT:FALSE
SUMMARY:Leadership Kearney Golf Tournament
DESCRIPTION:Tournament is Friday\, September 13\, at Prairie Hills Golf Course. Registration starts at 11:30am. Tee-off is at 12:30am. No lunch will be served\, but heavy appetizers will be available after the tournament   during social time/prize give-away.  Contact Michelle Hilkemann at (308) 236-9798 for more details.
X-ALT-DESC;FMTTYPE=text/html:<span style="font-family:times new roman\,serif\;"><span style="font-size:12.0pt\;">Tournament is Friday\, September 13\, at Prairie Hills Golf Course. Registration starts at 11:30am. Tee-off is at 12:30am. No lunch will be served\, but heavy appetizers will be available after the tournament &ndash\; during social time/prize give-away. &nbsp\;Contact Michelle Hilkemann at (308) 236-9798 for more details. &nbsp\;</span></span>
LOCATION:
UID:e.1404.3215
SEQUENCE:3
DTSTAMP:20260424T020937Z
URL:https://members.kearneycoc.org/events/details/leadership-kearney-golf-tournament-09-13-2013-3215
END:VEVENT

END:VCALENDAR
