BEGIN:VCALENDAR
VERSION:2.0
PRODID:-//ChamberMaster//Event Calendar 2.0//EN
METHOD:PUBLISH
X-PUBLISHED-TTL:P3D
REFRESH-INTERVAL:P3D
CALSCALE:GREGORIAN
BEGIN:VEVENT
DTSTART:20210824T170000Z
DTEND:20210824T183000Z
X-MICROSOFT-CDO-ALLDAYEVENT:FALSE
SUMMARY:Leadership Partner Luncheon
DESCRIPTION:Leadership Partner Luncheon
X-ALT-DESC;FMTTYPE=text/html:Leadership Partner Luncheon&nbsp\;&nbsp\;&nbsp\;&nbsp\;&nbsp\;&nbsp\;&nbsp\;&nbsp\;
LOCATION:The Archway 3060 E 1st St Kearney\, NE
UID:e.1404.19332
SEQUENCE:3
DTSTAMP:20260424T020400Z
URL:https://members.kearneycoc.org/events/details/leadership-partner-luncheon-19332
END:VEVENT

END:VCALENDAR
