BEGIN:VCALENDAR
VERSION:2.0
PRODID:-//ChamberMaster//Event Calendar 2.0//EN
METHOD:PUBLISH
X-PUBLISHED-TTL:P3D
REFRESH-INTERVAL:P3D
CALSCALE:GREGORIAN
BEGIN:VEVENT
DTSTART:20150312T133000Z
DTEND:20150312T143000Z
X-MICROSOFT-CDO-ALLDAYEVENT:FALSE
SUMMARY:LEADS
DESCRIPTION:The Kearney Area Chamber of Commerce Leads group exists to help increase and/or grow your business in a professional and ethical way.  The groups exist to provide members of various professions the opportunity to further their business and financial interest.  Developing a strong network of advisors can increase the value to your clients/business by becoming a central resource point to assist you in finding the services they need.
X-ALT-DESC;FMTTYPE=text/html:<span style="font-family:arial\,sans-serif\;">The Kearney Area Chamber of Commerce Leads group exists to help increase and/or grow your business in a professional and ethical way.&nbsp\; The groups exist to provide members of various professions the opportunity to further their business and financial interest.&nbsp\; Developing a strong network of advisors can increase the value to your clients/business by becoming a central resource point to assist you in finding the services they need.&nbsp\;&nbsp\;</span>
LOCATION:Kearney Area Chamber of Commerce 1007 2nd Avenue
UID:e.1404.861
SEQUENCE:3
DTSTAMP:20260422T225316Z
URL:https://members.kearneycoc.org/events/details/leads-03-12-2015-861
END:VEVENT

END:VCALENDAR
