BEGIN:VCALENDAR
VERSION:2.0
PRODID:-//ChamberMaster//Event Calendar 2.0//EN
METHOD:PUBLISH
X-PUBLISHED-TTL:P3D
REFRESH-INTERVAL:P3D
CALSCALE:GREGORIAN
BEGIN:VEVENT
DTSTART:20200625T133000Z
DTEND:20200625T143000Z
X-MICROSOFT-CDO-ALLDAYEVENT:FALSE
SUMMARY:LEADS Blue
DESCRIPTION:Chair: Jim Fields - Mosaic\n\nCo-Chair: Kristin Vorderstrasse - Copycat Printing\n\n\n\nThe LEADS Groups purpose is to create a close-nit networking group of professionals in the area with the purpose of creating increased business and revenue. \n\n\n\nThe group is mainly for professionals that rely on referrals (or leads). There is only one individual from any particular industry in each group so there is no overlapping.\n\n\n\nThe group meets bi-weekly and gets to know each other and each other's services very well with the intention being that any given individual in the group would feel comfortably referring a client\, friend or family member to any other given individual in the group. There can be as many LEADS Groups as needed at the Kearney Chamber. To inquire about joining a LEADS Group\, contact Shanna Schulte.
X-ALT-DESC;FMTTYPE=text/html:<span style="font-size:14px\;"><span class="color_35"><span style="font-family:helvetica-w01-roman\,helvetica-w02-roman\,helvetica-lt-w10-roman\,sans-serif\;"><strong>Chair:</strong> </span></span></span><span style="font-family: helvetica-w01-roman\, helvetica-w02-roman\, helvetica-lt-w10-roman\, sans-serif\; font-size: 14px\;">Jim Fields - Mosaic</span><br />\n<span class="color_35" style=""><span style="font-size: 14px\; font-family: helvetica-w01-roman\, helvetica-w02-roman\, helvetica-lt-w10-roman\, sans-serif\;"><strong>Co-Chair:</strong>&nbsp\;Kristin Vorderstrasse - Copycat Printing</span></span><br />\n<br />\n<span style="font-size:14px\;"><span class="color_35"><span style="font-family:helvetica-w01-roman\,helvetica-w02-roman\,helvetica-lt-w10-roman\,sans-serif\;">The LEADS Groups purpose is to create a&nbsp\;close-nit&nbsp\;networking group of professionals in the area with the purpose of creating increased business and revenue.&nbsp\;<br />\n<br />\nThe group is mainly for professionals that rely on referrals (or leads). There is only one individual from any particular industry in each group so there is no overlapping.<br />\n<br />\nThe group meets bi-weekly and gets to know each other and each other&#39\;s services very well with the intention being that any given individual in the group would feel&nbsp\;comfortably&nbsp\;referring a client\, friend or family member to any other given individual in the group. There can be as many LEADS Groups as needed at the Kearney Chamber. To inquire about joining a LEADS Group\, contact Shanna Schulte.</span></span></span>
LOCATION:Topic: Leads Blue June 25th Time: Jun 25\, 2020 08:30 AM Central Time (US and Canada) Join Zoom Meeting https://us02web.zoom.us/j/81541956516?pwd=alVWU21TeithN1pXSHNQUVNxeHFKZz09 Meeting ID: 815 4195 6516 Password: 990468 One tap mobile +12532158782\,\,81541956516#\,\,\,\,0#\,\,990468# US (Tacoma) +13462487799\,\,81541956516#\,\,\,\,0#\,\,990468# US (Houston) Dial by your location +1 253 215 8782 US (Tacoma) +1 346 248 7799 US (Houston) +1 669 900 6833 US (San Jose) +1 301 715 8592 US (Germantown) +1 312 626 6799 US (Chicago) +1 929 205 6099 US (New York) Meeting ID: 815 4195 6516 Password: 990468 Find your local number: https://us02web.zoom.us/u/kbHmLK1PML
UID:e.1404.1055
SEQUENCE:3
DTSTAMP:20260425T032724Z
URL:https://members.kearneycoc.org/events/details/leads-06-25-2020-1055
END:VEVENT

END:VCALENDAR
