BEGIN:VCALENDAR
VERSION:2.0
PRODID:-//ChamberMaster//Event Calendar 2.0//EN
METHOD:PUBLISH
X-PUBLISHED-TTL:P3D
REFRESH-INTERVAL:P3D
CALSCALE:GREGORIAN
BEGIN:VEVENT
DTSTART:20220922T133000Z
DTEND:20220922T143000Z
X-MICROSOFT-CDO-ALLDAYEVENT:FALSE
SUMMARY:LEADS Blue
DESCRIPTION:*NOTE - this is a fee based group with participants limited to 1 per industry. Please contact Amy Cope for more information before submitting a registration.\n\n\n\nChair: Kelsey Jezbera - Computer Hardware\n\nVice Chair: Elijah Landell - Rising Tide Leadership Development\n\nPast Chair: Kristin Vorderstrasse - CopyCat Printing\n\n\n\nThe LEADS Groups purpose is to create a close-nit networking group of professionals in the area with the purpose of creating increased business and revenue. \n\n\n\nThe group is mainly for professionals that rely on referrals (or leads). There is only one individual from any particular industry in each group so there is no overlapping.\n\n\n\nThe group meets bi-weekly and gets to know each other and each other's services very well with the intention being that any given individual in the group would feel comfortably referring a client\, friend or family member to any other given individual in the group. There can be as many LEADS Groups as needed at the Kearney Chamber.
X-ALT-DESC;FMTTYPE=text/html:<em><strong>*NOTE -</strong>&nbsp\;this is a fee based group with participants limited to 1 per industry. Please contact&nbsp\;<a href="mailto:acope@kearneycoc.org">Amy Cope</a>&nbsp\;for more information before submitting a registration.</em><br />\n<br />\n<span class="color_35" style=""><span style="font-size: 14px\; font-family: helvetica-w01-roman\, helvetica-w02-roman\, helvetica-lt-w10-roman\, sans-serif\;"><strong>Chair:</strong>&nbsp\;</span></span><span style="font-size: 14px\;">Kelsey Jezbera - Computer Hardware</span><br />\n<strong style="font-size: 14px\;">Vice Chair:</strong><span style="font-size: 14px\;">&nbsp\;Elijah Landell - Rising Tide Leadership Development</span><br />\n<span style="color: rgb(51\, 51\, 51)\; font-family: sans-serif\, Arial\, Verdana\, &quot\;Trebuchet MS&quot\;\; font-size: 14px\;"><span class="color_35"><span style="font-family: helvetica-w01-roman\, helvetica-w02-roman\, helvetica-lt-w10-roman\, sans-serif\;"><strong>Past Chair:</strong>&nbsp\;Kristin Vorderstrasse - CopyCat Printing</span></span></span><br />\n<br />\n<span style="font-size:14px\;"><span class="color_35"><span style="font-family:helvetica-w01-roman\,helvetica-w02-roman\,helvetica-lt-w10-roman\,sans-serif\;">The LEADS Groups purpose is to create a&nbsp\;close-nit&nbsp\;networking group of professionals in the area with the purpose of creating increased business and revenue.&nbsp\;<br />\n<br />\nThe group is mainly for professionals that rely on referrals (or leads). There is only one individual from any particular industry in each group so there is no overlapping.<br />\n<br />\nThe group meets bi-weekly and gets to know each other and each other&#39\;s services very well with the intention being that any given individual in the group would feel&nbsp\;comfortably&nbsp\;referring a client\, friend or family member to any other given individual in the group. There can be as many LEADS Groups as needed at the Kearney Chamber.&nbsp\;</span></span></span>
LOCATION:Hilltop Pet Clinic *new location! 2907 W. 37th Ste. B Kearney\, NE 68845
UID:e.1404.1082
SEQUENCE:3
DTSTAMP:20260421T085837Z
URL:https://members.kearneycoc.org/events/details/leads-09-22-2022-1082
END:VEVENT

END:VCALENDAR
