BEGIN:VCALENDAR
VERSION:2.0
PRODID:-//ChamberMaster//Event Calendar 2.0//EN
METHOD:PUBLISH
X-PUBLISHED-TTL:P3D
REFRESH-INTERVAL:P3D
CALSCALE:GREGORIAN
BEGIN:VEVENT
DTSTART:20210408T133000Z
DTEND:20210408T143000Z
X-MICROSOFT-CDO-ALLDAYEVENT:FALSE
SUMMARY:LEADS Blue & Leads Green
DESCRIPTION:Leads Blue\n\nChair: Kristin Vorderstrasse - Copycat Printing\n\nCo-Chair: Kelsey Jezbera - Computer Hardware\n\nLeads Green\n\nChair: Brent Crass - Midwest Connect\n\n\n\nThe LEADS Groups purpose is to create a close-nit networking group of professionals in the area with the purpose of creating increased business and revenue. \n\n\n\nThe group is mainly for professionals that rely on referrals (or leads). There is only one individual from any particular industry in each group so there is no overlapping.\n\n\n\nThe group meets bi-weekly and gets to know each other and each other's services very well with the intention being that any given individual in the group would feel comfortably referring a client\, friend or family member to any other given individual in the group. There can be as many LEADS Groups as needed at the Kearney Chamber. To inquire about joining a LEADS Group\, contact Shanna Schulte.
X-ALT-DESC;FMTTYPE=text/html:<span style="font-size:14px\;"><span class="color_35"><span style="font-family:helvetica-w01-roman\,helvetica-w02-roman\,helvetica-lt-w10-roman\,sans-serif\;"><strong>Leads Blue<br />\nChair:</strong>&nbsp\;</span></span>Kristin Vorderstrasse - Copycat Printing<br />\n<span class="color_35"><span style="font-family:helvetica-w01-roman\,helvetica-w02-roman\,helvetica-lt-w10-roman\,sans-serif\;"><strong>Co-Chair:</strong>&nbsp\;Kelsey Jezbera - Computer Hardware<br />\n<strong>Leads Green</strong><br />\n<strong>Chair:</strong> Brent Crass - Midwest Connect</span></span></span><br />\n<br />\n<span style="font-size:14px\;"><span class="color_35"><span style="font-family:helvetica-w01-roman\,helvetica-w02-roman\,helvetica-lt-w10-roman\,sans-serif\;">The LEADS Groups purpose is to create a&nbsp\;close-nit&nbsp\;networking group of professionals in the area with the purpose of creating increased business and revenue.&nbsp\;<br />\n<br />\nThe group is mainly for professionals that rely on referrals (or leads). There is only one individual from any particular industry in each group so there is no overlapping.<br />\n<br />\nThe group meets bi-weekly and gets to know each other and each other&#39\;s services very well with the intention being that any given individual in the group would feel&nbsp\;comfortably&nbsp\;referring a client\, friend or family member to any other given individual in the group. There can be as many LEADS Groups as needed at the Kearney Chamber. To inquire about joining a LEADS Group\, contact Shanna Schulte.</span></span></span>
LOCATION:Billy Jack's Pizza Pub 810 3rd Ave. Kearney NE
UID:e.1404.934
SEQUENCE:3
DTSTAMP:20260424T103107Z
URL:https://members.kearneycoc.org/events/details/leads-blue-leads-green-934
END:VEVENT

END:VCALENDAR
