BEGIN:VCALENDAR
VERSION:2.0
PRODID:-//ChamberMaster//Event Calendar 2.0//EN
METHOD:PUBLISH
X-PUBLISHED-TTL:P3D
REFRESH-INTERVAL:P3D
CALSCALE:GREGORIAN
BEGIN:VEVENT
DTSTART:20211019T210000Z
DTEND:20211019T220000Z
X-MICROSOFT-CDO-ALLDAYEVENT:FALSE
SUMMARY:LEADS Green
DESCRIPTION:Chair: Shawn Mitchell - Citizen Pixel Web Solutions\n\nCo-Chair: Monica Richard - Viaero Wireless\n\n\n\nThe LEADS Groups purpose is to create a close-nit networking group of professionals in the area with the purpose of creating increased business and revenue. \n\n\n\nThe group is mainly for professionals that rely on referrals (or leads). There is only one individual from any particular industry in each group so there is no overlapping.\n\n\n\nThe group meets bi-weekly and gets to know each other and each other's services very well with the intention being that any given individual in the group would feel comfortably referring a client\, friend or family member to any other given individual in the group. There can be as many LEADS Groups as needed at the Kearney Chamber.
X-ALT-DESC;FMTTYPE=text/html:<strong style="font-family: helvetica-w01-roman\, helvetica-w02-roman\, helvetica-lt-w10-roman\, sans-serif\; font-size: 14px\;">Chair:</strong><span style="font-family: helvetica-w01-roman\, helvetica-w02-roman\, helvetica-lt-w10-roman\, sans-serif\; font-size: 14px\;">&nbsp\;Shawn Mitchell - Citizen Pixel Web Solutions</span><br style="font-family: helvetica-w01-roman\, helvetica-w02-roman\, helvetica-lt-w10-roman\, sans-serif\; font-size: 14px\;" />\n<strong style="font-family: helvetica-w01-roman\, helvetica-w02-roman\, helvetica-lt-w10-roman\, sans-serif\; font-size: 14px\;">Co-Chair:</strong><span style="font-family: helvetica-w01-roman\, helvetica-w02-roman\, helvetica-lt-w10-roman\, sans-serif\; font-size: 14px\;">&nbsp\;Monica Richard - Viaero Wireless</span><br />\n<br />\n<span style="font-size:14px\;"><span class="color_35"><span style="font-family:helvetica-w01-roman\,helvetica-w02-roman\,helvetica-lt-w10-roman\,sans-serif\;">The LEADS Groups purpose is to create a&nbsp\;close-nit&nbsp\;networking group of professionals in the area with the purpose of creating increased business and revenue.&nbsp\;<br />\n<br />\nThe group is mainly for professionals that rely on referrals (or leads). There is only one individual from any particular industry in each group so there is no overlapping.<br />\n<br />\nThe group meets bi-weekly and gets to know each other and each other&#39\;s services very well with the intention being that any given individual in the group would feel&nbsp\;comfortably&nbsp\;referring a client\, friend or family member to any other given individual in the group. There can be as many LEADS Groups as needed at the Kearney Chamber.&nbsp\;</span></span></span>
LOCATION:Kearney Area Chamber of Commerce (unless otherwise noted) 1007 2nd Ave.
UID:e.1404.15168
SEQUENCE:3
DTSTAMP:20260423T232600Z
URL:https://members.kearneycoc.org/events/details/leads-green-10-19-2021-15168
END:VEVENT

END:VCALENDAR
