BEGIN:VCALENDAR
VERSION:2.0
PRODID:-//ChamberMaster//Event Calendar 2.0//EN
METHOD:PUBLISH
X-PUBLISHED-TTL:P3D
REFRESH-INTERVAL:P3D
CALSCALE:GREGORIAN
BEGIN:VEVENT
DTSTART:20211116T220000Z
DTEND:20211116T230000Z
X-MICROSOFT-CDO-ALLDAYEVENT:FALSE
SUMMARY:LEADS Green
DESCRIPTION:Chair: Shawn Mitchell - Citizen Pixel Web Solutions\n\nCo-Chair: Monica Richard - Viaero Wireless
X-ALT-DESC;FMTTYPE=text/html:<strong style="font-family: helvetica-w01-roman\, helvetica-w02-roman\, helvetica-lt-w10-roman\, sans-serif\; font-size: 14px\;">Chair:</strong><span style="font-family: helvetica-w01-roman\, helvetica-w02-roman\, helvetica-lt-w10-roman\, sans-serif\; font-size: 14px\;">&nbsp\;Shawn Mitchell - Citizen Pixel Web Solutions</span><br style="font-family: helvetica-w01-roman\, helvetica-w02-roman\, helvetica-lt-w10-roman\, sans-serif\; font-size: 14px\;" />\n<strong style="font-family: helvetica-w01-roman\, helvetica-w02-roman\, helvetica-lt-w10-roman\, sans-serif\; font-size: 14px\;">Co-Chair:</strong><span style="font-family: helvetica-w01-roman\, helvetica-w02-roman\, helvetica-lt-w10-roman\, sans-serif\; font-size: 14px\;">&nbsp\;Monica Richard - Viaero Wireless</span><br />\n<br />\n&nbsp\;
LOCATION:The Chicken Coop
UID:e.1404.15169
SEQUENCE:3
DTSTAMP:20260423T214820Z
URL:https://members.kearneycoc.org/events/details/leads-green-11-16-2021-15169
END:VEVENT

END:VCALENDAR
